BEGIN:VCALENDAR
VERSION:2.0
PRODID:-//Drupal iCal API//EN
X-WR-CALNAME:Events items teaser
X-WR-TIMEZONE:America/Toronto
BEGIN:VTIMEZONE
TZID:America/Toronto
X-LIC-LOCATION:America/Toronto
BEGIN:DAYLIGHT
TZNAME:EDT
TZOFFSETFROM:-0500
TZOFFSETTO:-0400
DTSTART:20250309T070000
END:DAYLIGHT
BEGIN:STANDARD
TZNAME:EST
TZOFFSETFROM:-0400
TZOFFSETTO:-0500
DTSTART:20241103T060000
END:STANDARD
END:VTIMEZONE
BEGIN:VEVENT
UID:69ecc0a9d2832
DTSTART;TZID=America/Toronto:20250603T113000
SEQUENCE:0
TRANSP:TRANSPARENT
DTEND;TZID=America/Toronto:20250603T172000
URL:https://uwaterloo.ca/engineering/events/academic-exchange-program-and-w
 orking-abroad-info-sessions
LOCATION:PSE - Pearl Sullivan Engineering 200 University Ave West PSE\, 7th
  Floor Waterloo ON N2L 3G1 Canada
SUMMARY:Academic Exchange Program and Working Abroad Info Sessions
CLASS:PUBLIC
DESCRIPTION:Info sessions for engineering students wanting to working abroa
 d or\nstudy\nabroad.
DTSTAMP:20260425T132457Z
END:VEVENT
END:VCALENDAR