BEGIN:VCALENDAR
VERSION:2.0
PRODID:-//Drupal iCal API//EN
X-WR-CALNAME:Events items teaser
X-WR-TIMEZONE:America/Toronto
BEGIN:VTIMEZONE
TZID:America/Toronto
X-LIC-LOCATION:America/Toronto
BEGIN:DAYLIGHT
TZNAME:EDT
TZOFFSETFROM:-0500
TZOFFSETTO:-0400
DTSTART:20250309T070000
END:DAYLIGHT
BEGIN:STANDARD
TZNAME:EST
TZOFFSETFROM:-0400
TZOFFSETTO:-0500
DTSTART:20241103T060000
END:STANDARD
END:VTIMEZONE
BEGIN:VEVENT
UID:69ed5a4f49f9d
DTSTART;TZID=America/Toronto:20250710T140000
SEQUENCE:0
TRANSP:TRANSPARENT
DTEND;TZID=America/Toronto:20250710T150000
URL:https://uwaterloo.ca/engineering/events/distinguished-lecture-prof-shuk
 -han-cheng
LOCATION:QNC - Quantum Nano Centre 200 University Avenue West QNC 1501 Wate
 rloo ON N2L 3G1 Canada
SUMMARY:Distinguished Lecture by Prof. Shuk Han CHENG
CLASS:PUBLIC
DESCRIPTION:The Waterloo Institute for Nanotechnology (WIN) is pleased to p
 resent\na\nDistinguished Lecture by Prof. Shuk Han CHENG\, Department of\n
 Biomedical\nSciences and Department of Materials Science and Engineering\,
  City\nUniversity\nof Hong Kong\n\nPlease join us on Thursday\, July 10 at
  2:00 p.m. to hear Prof. CHENG's\nlecture titled \"Curiosity-Driven Resear
 ch on Nanomaterials Led to\nUnexpected\nSocietal Impact.\"\n\nWhere: QNC 1
 501\nWhen: Thursday\, July 10\, 2025 | 2:00 p.m. - 3 p.m.
DTSTAMP:20260426T002031Z
END:VEVENT
END:VCALENDAR