BEGIN:VCALENDAR
VERSION:2.0
PRODID:-//Drupal iCal API//EN
X-WR-CALNAME:Events items teaser
X-WR-TIMEZONE:America/Toronto
BEGIN:VTIMEZONE
TZID:America/Toronto
X-LIC-LOCATION:America/Toronto
BEGIN:DAYLIGHT
TZNAME:EDT
TZOFFSETFROM:-0500
TZOFFSETTO:-0400
DTSTART:20250309T070000
END:DAYLIGHT
BEGIN:STANDARD
TZNAME:EST
TZOFFSETFROM:-0400
TZOFFSETTO:-0500
DTSTART:20241103T060000
END:STANDARD
END:VTIMEZONE
BEGIN:VEVENT
UID:69e875f4495dc
DTSTART;TZID=America/Toronto:20251023T110000
SEQUENCE:0
TRANSP:TRANSPARENT
DTEND;TZID=America/Toronto:20251023T120000
URL:https://uwaterloo.ca/engineering/events/beyond-storm-water-insecurity-a
 nd-community-resilience
LOCATION:DC - William G. Davis Computer Research Centre 1302 200 University
  Avenue West Waterloo ON N2L 3G1 Canada
SUMMARY:Beyond the storm: Water insecurity and community resilience in Puer
 to\nRico
CLASS:PUBLIC
DESCRIPTION:As part of the Water Institute's WaterTalks lecture series\, Dr
 . Anaís\nDelilah Roque\, John Hope Franklin Assistant Professor of Enviro
 nmental\nJustice\, Nicholas School of the Environment\, Duke University\, 
 will\npresent Beyond the Storm: Water Insecurity and Community Resilience 
 in\nPuerto Rico.\n\nThis event is in person in DC 1302 with a networking l
 unch reception\nto follow in DC 1301 (The Fishbowl).
DTSTAMP:20260422T071708Z
END:VEVENT
END:VCALENDAR