BEGIN:VCALENDAR
VERSION:2.0
PRODID:-//Drupal iCal API//EN
X-WR-CALNAME:Events items teaser
X-WR-TIMEZONE:America/Toronto
BEGIN:VTIMEZONE
TZID:America/Toronto
X-LIC-LOCATION:America/Toronto
BEGIN:DAYLIGHT
TZNAME:EDT
TZOFFSETFROM:-0500
TZOFFSETTO:-0400
DTSTART:20250309T070000
END:DAYLIGHT
BEGIN:STANDARD
TZNAME:EST
TZOFFSETFROM:-0400
TZOFFSETTO:-0500
DTSTART:20251102T060000
END:STANDARD
END:VTIMEZONE
BEGIN:VEVENT
UID:69e7fdc74a764
DTSTART;TZID=America/Toronto:20251201T133000
SEQUENCE:0
TRANSP:TRANSPARENT
DTEND;TZID=America/Toronto:20251201T143000
URL:https://uwaterloo.ca/engineering/events/faculty-engineering-research-co
 lloquium-professor-michael
LOCATION:PSE - Pearl Sullivan Engineering 7303 200 University Ave West Wate
 rloo ON N2L 3G1 Canada
SUMMARY:FACULTY OF ENGINEERING RESEARCH COLLOQUIUM - PROFESSOR MICHAEL\nDET
 AMORE
CLASS:PUBLIC
DESCRIPTION:Faculty of Engineering Research Colloquium by Professor Michael
 \nDetamore on Paste-like Biomaterials for Traumatic Brain Injury and\nCart
 ilage Repair
DTSTAMP:20260421T224423Z
END:VEVENT
END:VCALENDAR