BEGIN:VCALENDAR
VERSION:2.0
PRODID:-//Drupal iCal API//EN
X-WR-CALNAME:Events items teaser
X-WR-TIMEZONE:America/Toronto
BEGIN:VTIMEZONE
TZID:America/Toronto
X-LIC-LOCATION:America/Toronto
BEGIN:DAYLIGHT
TZNAME:EDT
TZOFFSETFROM:-0500
TZOFFSETTO:-0400
DTSTART:20260308T070000
END:DAYLIGHT
BEGIN:STANDARD
TZNAME:EST
TZOFFSETFROM:-0400
TZOFFSETTO:-0500
DTSTART:20251102T060000
END:STANDARD
END:VTIMEZONE
BEGIN:VEVENT
UID:69e5ccb06959d
DTSTART;TZID=America/Toronto:20260311T000000
SEQUENCE:0
TRANSP:TRANSPARENT
DTEND;TZID=America/Toronto:20260402T000000
URL:https://uwaterloo.ca/engineering/events/engineering-capstone-design-sym
 posia-2026
LOCATION:Pearl Sullivan Engineering Building University of Waterloo 200 Uni
 versity Ave West Waterloo ON N2L 3G1 Canada
SUMMARY:Engineering Capstone Design Symposia
CLASS:PUBLIC
DESCRIPTION:Alumni\, students\, employers\, industry partners\, media\, and
  members of\nthe general public are invited to join us in the Pearl Sulliv
 an\nEngineering Building (formerly Engineering 7) for the Capstone Design\
 nSymposium.
DTSTAMP:20260420T065024Z
END:VEVENT
END:VCALENDAR