BEGIN:VCALENDAR
VERSION:2.0
PRODID:-//Drupal iCal API//EN
X-WR-CALNAME:Events items teaser
X-WR-TIMEZONE:America/Toronto
BEGIN:VTIMEZONE
TZID:America/Toronto
X-LIC-LOCATION:America/Toronto
BEGIN:DAYLIGHT
TZNAME:EDT
TZOFFSETFROM:-0500
TZOFFSETTO:-0400
DTSTART:20260308T070000
END:DAYLIGHT
BEGIN:DAYLIGHT
TZNAME:EDT
TZOFFSETFROM:-0500
TZOFFSETTO:-0400
DTSTART:20250309T070000
END:DAYLIGHT
BEGIN:STANDARD
TZNAME:EST
TZOFFSETFROM:-0400
TZOFFSETTO:-0500
DTSTART:20251102T060000
END:STANDARD
BEGIN:STANDARD
TZNAME:EST
TZOFFSETFROM:-0400
TZOFFSETTO:-0500
DTSTART:20241103T060000
END:STANDARD
END:VTIMEZONE
BEGIN:VEVENT
UID:69ec2ebf3d03c
DTSTART;TZID=America/Toronto:20260323T170000
SEQUENCE:0
TRANSP:TRANSPARENT
DTEND;TZID=America/Toronto:20260323T193000
URL:https://uwaterloo.ca/engineering/events/ignite-networking-night
LOCATION:151 Charles St W Suite 100 Kitchener ON Canada
SUMMARY:IGNITE Networking Night
CLASS:PUBLIC
DESCRIPTION:Join us in Waterloo for Ignite STEM Networking\, where bright m
 inds\nconnect and spark new ideas in person! IGNITE is more than just a\nn
 etworking event—it’s a movement. Whether you’re looking to\nadvance 
 your career\, share your expertise\, or be part of a community\ncreating r
 eal change\, this is the place to be.\n\nIGNITE Networking Night provides 
 a valuable opportunity for\nstudents—particularly those exploring career
  pathways or seeking\n\nemployment—to:\n\n• Build professional connect
 ions\n\n• Engage with industry professionals\n\n• Learn about diverse 
 career pathway
DTSTAMP:20260425T030223Z
END:VEVENT
BEGIN:VEVENT
UID:69ec2ebf410c0
DTSTART;TZID=America/Toronto:20260323T090000
SEQUENCE:0
TRANSP:TRANSPARENT
DTEND;TZID=America/Toronto:20260323T150000
URL:https://uwaterloo.ca/engineering/events/allies-action-workshop
LOCATION:151 Charles St W\, Suite 100 Kitchener ON Canada
SUMMARY:Allies in Action Workshop
CLASS:PUBLIC
DESCRIPTION:SCWIST\, in partnership with NextGenMen\, invites participants 
 to join\nAllies in Action: Engaging Men and Boys for Safer STEM Workplaces
 \, a\nfull-day\, in-person workshop in Waterloo designed to mobilize men\,
 \nboys\, and gender-diverse participants as active allies in preventing\na
 nd responding to gender-based violence (GBV) in STEM. The workshop\nmoves 
 beyond awareness to action\, providing practical tools and\nstrategies for
  participants to foster safer and more inclusive\nenvironments within thei
 r organizations and communities.
DTSTAMP:20260425T030223Z
END:VEVENT
BEGIN:VEVENT
UID:69ec2ebf41c62
DTSTART;TZID=America/Toronto:20260311T000000
SEQUENCE:0
TRANSP:TRANSPARENT
DTEND;TZID=America/Toronto:20260402T000000
URL:https://uwaterloo.ca/engineering/events/engineering-capstone-design-sym
 posia-2026
LOCATION:Pearl Sullivan Engineering Building University of Waterloo 200 Uni
 versity Ave West Waterloo ON N2L 3G1 Canada
SUMMARY:Engineering Capstone Design Symposia
CLASS:PUBLIC
DESCRIPTION:Alumni\, students\, employers\, industry partners\, media\, and
  members of\nthe general public are invited to join us in the Pearl Sulliv
 an\nEngineering Building (formerly Engineering 7) for the Capstone Design\
 nSymposium.
DTSTAMP:20260425T030223Z
END:VEVENT
BEGIN:VEVENT
UID:69ec2ebf42728
DTSTART;TZID=America/Toronto:20260326T123000
SEQUENCE:0
TRANSP:TRANSPARENT
DTEND;TZID=America/Toronto:20260326T163000
URL:https://uwaterloo.ca/engineering/events/esch-pitch-competition-2026
LOCATION:University of Waterloo\, Pearl Sullivan Engineering building\, 2nd
  floor 200 University Ave West Waterloo ON N2L 3G1 Canada
SUMMARY:Esch Pitch Competition
CLASS:PUBLIC
DESCRIPTION:Watch as 12 outstanding Capstone teams compete for over $100k i
 n\nprizes. These teams were shortlisted from over 50 entries representing\
 nmost programs in the Faculty of Engineering. The Esch Awards support\ncre
 ative and entrepreneurial students in the pursuit of research and\ndevelop
 ment and its commercialization for the benefit of Canada.
DTSTAMP:20260425T030223Z
END:VEVENT
BEGIN:VEVENT
UID:69ec2ebf43239
DTSTART;TZID=America/Toronto:20260114T120000
SEQUENCE:0
TRANSP:TRANSPARENT
DTEND;TZID=America/Toronto:20260114T133000
URL:https://uwaterloo.ca/engineering/events/cracking-code-tips-technical-in
 terview-success
LOCATION:TC 2218 - William M. Tatham Centre for Co-operative Education &amp; Ca
 reer Action 200 University Avenue West Waterloo ON N2L 3G1 Canada
SUMMARY:Cracking the code: tips for technical interview success
CLASS:PUBLIC
DESCRIPTION:Got a technical interview coming up? Join us for a lively sessi
 on with\ninsider tips from a D2L recruiter and senior developer\, plus two
  upper\nyear co-op students who've been through it and know what works.
DTSTAMP:20260425T030223Z
END:VEVENT
BEGIN:VEVENT
UID:69ec2ebf43cf5
DTSTART;TZID=America/Toronto:20251125T180000
SEQUENCE:0
TRANSP:TRANSPARENT
DTEND;TZID=America/Toronto:20251125T200000
URL:https://uwaterloo.ca/engineering/events/harnessing-robotics-and-ai-clim
 ate-solutions
LOCATION:PSE - Pearl Sullivan Engineering 7303 200 University Ave West Wate
 rloo ON N2L 3G1 Canada
SUMMARY:Harnessing Robotics and AI for Climate Solutions
CLASS:PUBLIC
DESCRIPTION:RoboHub and ESG Partners will be hosting a panel on Harnessing\
 nRobotics &amp; AI For Climate Solutions\, which aims to explore how\nrobotics
  and AI can be applied to climate solutions and how a climate\nlens can be
  applied to existing robotics work in areas like healthcare\nto address cl
 imate threats. This event is taking place during CCWX\n2025\, which runs f
 rom November 24 to November 30th.
DTSTAMP:20260425T030223Z
END:VEVENT
BEGIN:VEVENT
UID:69ec2ebf44b50
DTSTART;TZID=America/Toronto:20251120T110000
SEQUENCE:0
TRANSP:TRANSPARENT
DTEND;TZID=America/Toronto:20251120T120000
URL:https://uwaterloo.ca/engineering/events/compound-flood-and-drought-haza
 rds-changing-climate
LOCATION:DC - William G. Davis Computer Research Centre 1302 200 University
  Avenue West Waterloo ON N2L 3G1 Canada
SUMMARY:Compound flood and drought hazards in a changing climate: Implicati
 ons\nfor risk and resilience
CLASS:PUBLIC
DESCRIPTION:As part of the Water Institute's WaterTalks lecture series\, Re
 za\nNajafi\, Associate Professor of Civil and Environmental Engineering at
 \nWestern University and head of the Hydroclimate Extremes and Climate\nCh
 ange Lab (HydroClimEX Lab)\, co-director of the Centre for\nMultihazard Ri
 sk and Resilience (CMRR)\, will present Compound flood\nand drought hazard
 s in a changing climate: Implications for risk and\nresilience.\n\nThis ev
 ent is in person in DC 1302 with a networking lunch reception\nto follow i
 n DC 1301 (The Fishbowl).
DTSTAMP:20260425T030223Z
END:VEVENT
BEGIN:VEVENT
UID:69ec2ebf45841
DTSTART;TZID=America/Toronto:20251118T180000
SEQUENCE:0
TRANSP:TRANSPARENT
DTEND;TZID=America/Toronto:20251118T190000
URL:https://uwaterloo.ca/engineering/events/waterloo-centre-automotive-rese
 arch-watcar-webinar-driving
SUMMARY:Waterloo Centre for Automotive Research (WatCAR) Webinar - Driving\
 nTowards the Future: Deployments\, Designs\, and Challenges of Autonomous\
 nVehicles
CLASS:PUBLIC
DESCRIPTION:Join us for a webinar presentation by Dr. Krzysztof Czarnecki o
 n the\ncurrent state of autonomous vehicles\, exploring active deployments
 \,\nemerging challenges and research directions. The talk will also\nhighl
 ight research taking place in the Waterloo Intelligent Systems\nEngineerin
 g (WISE) Laboratory\, which co-led the development of the\nfirst autonomou
 s vehicle tested on public roads in Canada.
DTSTAMP:20260425T030223Z
END:VEVENT
BEGIN:VEVENT
UID:69ec2ebf46353
DTSTART;VALUE=DATE:20251029
SEQUENCE:0
TRANSP:TRANSPARENT
DTEND;VALUE=DATE:20251204
URL:https://uwaterloo.ca/engineering/events/drop-career-advising-engineerin
 g-undergraduate-office
LOCATION:E2 - Engineering 2 1772 200 University Avenue West Waterloo ON N2L
  3G1 Canada
SUMMARY:Drop In Career Advising in the Engineering Undergraduate Office
CLASS:PUBLIC
DESCRIPTION:Interested in talking to a career advisor about your resume\, i
 nterview\nskills\, or job search strategy? Come to the Engineering Undergr
 aduate\nOffice (e2 1772) on Wednesdays between 11:30am-1:30pm from October
  29\n- December 3 for a drop-in appointment. This initiative is a\ncollabo
 ration between the Faculty of Engineering and the Centre for\nCareer Devel
 opment.
X-MICROSOFT-CDO-ALLDAYEVENT:TRUE
DTSTAMP:20260425T030223Z
END:VEVENT
BEGIN:VEVENT
UID:69ec2ebf46f0a
DTSTART;TZID=America/Toronto:20251103T190000
SEQUENCE:0
TRANSP:TRANSPARENT
DTEND;TZID=America/Toronto:20251103T210000
URL:https://uwaterloo.ca/engineering/events/discussion-should-universities-
 restrict-controversial-speech
LOCATION:GH - Graduate House 200 University Avenue West Waterloo ON N2L 3G1
  Canada
SUMMARY:Discussion: Should universities restrict controversial speech?
CLASS:PUBLIC
DESCRIPTION:Join The Waterloo Forum for our discussion on the topic: “Do\
 nuniversities have a duty to restrict controversial speech on\ncampus?” 
 This event will bring students together on campus for an\nopen exchange of
  ideas on the balance between free expression\,\nacademic values\, and com
 munity responsibility. Participants will have\nthe opportunity to share pe
 rspectives and ask questions in small-group\ndiscussions. Guided by though
 t-provoking prompts\, we will reflect on\nthe role universities play in fo
 stering both intellectual freedom and\nrespectful discourse.
DTSTAMP:20260425T030223Z
END:VEVENT
END:VCALENDAR