BEGIN:VCALENDAR
VERSION:2.0
PRODID:-//Drupal iCal API//EN
X-WR-CALNAME:Events items teaser
X-WR-TIMEZONE:America/Toronto
BEGIN:VTIMEZONE
TZID:America/Toronto
X-LIC-LOCATION:America/Toronto
BEGIN:DAYLIGHT
TZNAME:EDT
TZOFFSETFROM:-0500
TZOFFSETTO:-0400
DTSTART:20260308T070000
END:DAYLIGHT
BEGIN:DAYLIGHT
TZNAME:EDT
TZOFFSETFROM:-0500
TZOFFSETTO:-0400
DTSTART:20250309T070000
END:DAYLIGHT
BEGIN:DAYLIGHT
TZNAME:EDT
TZOFFSETFROM:-0500
TZOFFSETTO:-0400
DTSTART:20240310T070000
END:DAYLIGHT
BEGIN:DAYLIGHT
TZNAME:EDT
TZOFFSETFROM:-0500
TZOFFSETTO:-0400
DTSTART:20230312T070000
END:DAYLIGHT
BEGIN:STANDARD
TZNAME:EST
TZOFFSETFROM:-0400
TZOFFSETTO:-0500
DTSTART:20251102T060000
END:STANDARD
BEGIN:STANDARD
TZNAME:EST
TZOFFSETFROM:-0400
TZOFFSETTO:-0500
DTSTART:20241103T060000
END:STANDARD
BEGIN:STANDARD
TZNAME:EST
TZOFFSETFROM:-0400
TZOFFSETTO:-0500
DTSTART:20231105T060000
END:STANDARD
BEGIN:STANDARD
TZNAME:EST
TZOFFSETFROM:-0400
TZOFFSETTO:-0500
DTSTART:20221106T060000
END:STANDARD
END:VTIMEZONE
BEGIN:VEVENT
UID:69ec221a39c74
DTSTART;TZID=America/Toronto:20260311T000000
SEQUENCE:0
TRANSP:TRANSPARENT
DTEND;TZID=America/Toronto:20260402T000000
URL:https://uwaterloo.ca/engineering/events/engineering-capstone-design-sym
 posia-2026
LOCATION:Pearl Sullivan Engineering Building University of Waterloo 200 Uni
 versity Ave West Waterloo ON N2L 3G1 Canada
SUMMARY:Engineering Capstone Design Symposia
CLASS:PUBLIC
DESCRIPTION:Alumni\, students\, employers\, industry partners\, media\, and
  members of\nthe general public are invited to join us in the Pearl Sulliv
 an\nEngineering Building (formerly Engineering 7) for the Capstone Design\
 nSymposium.
DTSTAMP:20260425T020826Z
END:VEVENT
BEGIN:VEVENT
UID:69ec221a3bff1
DTSTART;TZID=America/Toronto:20251027T163000
SEQUENCE:0
TRANSP:TRANSPARENT
DTEND;TZID=America/Toronto:20251027T180000
URL:https://uwaterloo.ca/engineering/events/workshop-working-room-ron-ojanp
 era-27Oct2025
LOCATION:PSE - Pearl Sullivan Engineering 200 University Ave West Faculty H
 all - Room 7303\, 7th floor\, PSE Waterloo ON N2L 3G1 Canada
SUMMARY:Workshop: “Working the Room” with Ron Ojanpera (BASc 1969)
CLASS:PUBLIC
DESCRIPTION:Waterloo Engineering students and alumni are invited to partici
 pate in\nan exclusive in-person workshop with Waterloo Engineering alumnus
  Ron\nOjanpera (BASc 1969\, mechanical engineering). The “Working the\nR
 oom” workshop is based on 50 years of Ron’s personal business\nexperie
 nce.  
DTSTAMP:20260425T020826Z
END:VEVENT
BEGIN:VEVENT
UID:69ec221a3d71e
DTSTART;TZID=America/Toronto:20251002T180000
SEQUENCE:0
TRANSP:TRANSPARENT
DTEND;TZID=America/Toronto:20251002T210000
URL:https://uwaterloo.ca/engineering/events/alumni-reception-moving-at-spee
 d-ai-02Oct2025
LOCATION:Microsoft Canadian Headquarters 81 Bay Street Suite 4400\, 44th Fl
 oor Toronto ON M5J 0E7 Canada
SUMMARY:Waterloo Engineering reception and discussion: Moving at the Speed 
 of\nAI
CLASS:PUBLIC
DESCRIPTION:Moving at the speed of AI
DTSTAMP:20260425T020826Z
END:VEVENT
BEGIN:VEVENT
UID:69ec221a3ed81
DTSTART;TZID=America/Toronto:20250710T110000
SEQUENCE:0
TRANSP:TRANSPARENT
DTEND;TZID=America/Toronto:20250710T130000
URL:https://uwaterloo.ca/engineering/events/engineering-day-2025
LOCATION:CPH - Carl A. Pollock Hall 200 University Avenue West Courtyard Wa
 terloo ON N2L 3G1 Canada
SUMMARY:Engineering Day 2025
CLASS:PUBLIC
DESCRIPTION:ENGINEERING DAY 2025
DTSTAMP:20260425T020826Z
END:VEVENT
BEGIN:VEVENT
UID:69ec221a3ff88
DTSTART;TZID=America/Toronto:20250305T190000
SEQUENCE:0
TRANSP:TRANSPARENT
DTEND;TZID=America/Toronto:20250305T203000
URL:https://uwaterloo.ca/engineering/events/fireside-chat-practical-tips-to
 wards-finding-your-highest-excitement-05March2025
SUMMARY:Fireside Chat: Practical tips towards finding your highest exciteme
 nt
CLASS:PUBLIC
DESCRIPTION:Waterloo Engineering recent alumni are invited to participate i
 n an\nexclusive virtual conversation with Waterloo Engineering alumna\, L
 isa\nTong (BASc ’01\, Chemical Engineering)\, who recently published her
 \nbook _Hello (World) Me_\, a personal self-guided coach to self\,\nawaren
 ess\, understanding\, and choices — to creating the life YOU\nwant. 
DTSTAMP:20260425T020826Z
END:VEVENT
BEGIN:VEVENT
UID:69ec221a40d5f
DTSTART;TZID=America/Toronto:20250212T160000
SEQUENCE:0
TRANSP:TRANSPARENT
DTEND;TZID=America/Toronto:20250212T173000
URL:https://uwaterloo.ca/engineering/events/workshop-working-room-ron-ojanp
 era-12Feb2025
LOCATION:PSE - Pearl Sullivan Engineering 200 University Ave West Conrad Hu
 b - Room 2357\, 2nd floor\, PSE Waterloo ON N2L 3G1 Canada
SUMMARY:Workshop: “Working the Room” with Ron Ojanpera (BASc 1969)
CLASS:PUBLIC
DESCRIPTION:Waterloo Engineering students and alumni are invited to partici
 pate in\nan exclusive in-person workshop with Waterloo Engineering alumnus
  Ron\nOjanpera (BASc 1969\, mechanical engineering). The “Working the\nR
 oom” workshop is based on 50 years of Ron’s personal business\nexperie
 nce.  
DTSTAMP:20260425T020826Z
END:VEVENT
BEGIN:VEVENT
UID:69ec221a41dd9
DTSTART;TZID=America/Toronto:20241009T180000
SEQUENCE:0
TRANSP:TRANSPARENT
DTEND;TZID=America/Toronto:20241009T210000
URL:https://uwaterloo.ca/engineering/events/alumni-speaker-series-how-engin
 eers-can-advance-canadas-health-care-09Oct2024
LOCATION:PointClickCare 8 Spadina Avenue 14th Floor Toronto ON M5V 2H6 Cana
 da
SUMMARY:ALUMNI SPEAKER SERIES “How engineers can advance Canada’s healt
 h\ncare through technology”
CLASS:PUBLIC
DESCRIPTION:Innovations in technology have advanced every aspect of our hum
 an\nlives — often with engineers at the helm. One such example is the\ni
 ntersection of health care and technology\, as showcased by\nthe Universi
 ty of Waterloo’s Global Futures framework\n[https://uwaterloo.ca/waterlo
 o-100/global-futures] which highlights\nthe importance of health tech in o
 ur future world.\n\nThere are many urgent and exciting opportunities for e
 ngineers to step\nin and help redesign health care systems\, innovate solu
 tions and\ndevelop new ways of solving problems for the good of society.\n
 \nJoin this live event in Toronto with a panel of engineers\, researchers\
 nand health tech entrepreneurs who will discuss how — in our rapidly\nch
 anging world\, challenged by rising costs and lack of access —\nengineer
 ing can help advance health care through technology.\n\nThe conversation w
 ill focus on how engineers can work towards\nsolutions for optimal health 
 care\, showcase innovative research\,\ndiscuss strategies for retaining he
 alth tech startups in Canada\,\nidentify challenges\, explore opportunitie
 s and propose actionable\nsolutions to foster an innovative and thriving 
 health tech ecosystem\nin the country. 
DTSTAMP:20260425T020826Z
END:VEVENT
BEGIN:VEVENT
UID:69ec221a42e3e
DTSTART;TZID=America/Los_Angeles:20240409T180000
SEQUENCE:0
TRANSP:TRANSPARENT
DTEND;TZID=America/Los_Angeles:20240409T200000
URL:https://uwaterloo.ca/engineering/events/alumni-reception-bay-area-09Apr
 il2024
LOCATION:Sentry 45 Fremont Street Headquarters San Francisco\, CA 94105 Uni
 ted States
SUMMARY:You + Waterloo in The Bay: Alumni Networking Reception at Sentry
CLASS:PUBLIC
DESCRIPTION:The Deans of the Faculties of Engineering\, Mathematics\, and S
 cience\,\ninvites you and a guest to an exclusive alumni reception at Sent
 ry for\nan evening of networking with University of Waterloo alumni and co
 -op\nstudents currently on work term in San Francisco and the Bay Area.
DTSTAMP:20260425T020826Z
END:VEVENT
BEGIN:VEVENT
UID:69ec221a442a8
DTSTART;TZID=America/Toronto:20231102T100000
SEQUENCE:0
TRANSP:TRANSPARENT
DTEND;TZID=America/Toronto:20231102T110000
URL:https://uwaterloo.ca/engineering/events/collaborative-aeronautics-progr
 am-masters-and-phd
LOCATION:Canada
SUMMARY:Collaborative Aeronautics Program - Master's and PhD Engineering
CLASS:PUBLIC
DESCRIPTION:When you imagine a sustainable future for aeronautics\, what do
  you\nsee? Supported by academic units from all 6 faculties at the\nUniver
 sity of Waterloo\, and the rich industry and government network\nof the Wa
 terloo Institute for Sustainable Aeronautics\, the\nCollaborative Aeronaut
 ics Program (CAP) is an entirely new approach to\nMaster’s and Doctoral 
 studies in aeronautics.\n\nLearn how to apply directly to an Engineering p
 rogram and select the\nAeronautics admission option. While completing thei
 r degree\nrequirements in a home unit\, students also complete aeronautica
 l\ntraining alongside CAP students from other fields. The CAP will\nunique
 ly equip the next generation of leaders with the\ninterdisciplinary skills
  needed to align innovation with impact.
DTSTAMP:20260425T020826Z
END:VEVENT
BEGIN:VEVENT
UID:69ec221a4550b
DTSTART;TZID=America/Toronto:20230712T110000
SEQUENCE:0
TRANSP:TRANSPARENT
DTEND;TZID=America/Toronto:20230712T130000
URL:https://uwaterloo.ca/engineering/events/engineering-day-2023
LOCATION:CPH - Carl A. Pollock Hall 200 University Avenue West Courtyard Wa
 terloo ON N2L 3G1 Canada
SUMMARY:Engineering Day 2023
CLASS:PUBLIC
DESCRIPTION:ENGINEERING DAY 2023
DTSTAMP:20260425T020826Z
END:VEVENT
END:VCALENDAR