BEGIN:VCALENDAR
VERSION:2.0
PRODID:-//Drupal iCal API//EN
X-WR-CALNAME:Events items teaser
X-WR-TIMEZONE:America/Toronto
BEGIN:VTIMEZONE
TZID:America/Toronto
X-LIC-LOCATION:America/Toronto
BEGIN:DAYLIGHT
TZNAME:EDT
TZOFFSETFROM:-0500
TZOFFSETTO:-0400
DTSTART:20240310T070000
END:DAYLIGHT
BEGIN:STANDARD
TZNAME:EST
TZOFFSETFROM:-0400
TZOFFSETTO:-0500
DTSTART:20241103T060000
END:STANDARD
END:VTIMEZONE
BEGIN:VEVENT
UID:69e92e10c453b
DTSTART;TZID=America/Toronto:20250124T123000
SEQUENCE:0
TRANSP:TRANSPARENT
DTEND;TZID=America/Toronto:20250124T133000
URL:https://uwaterloo.ca/english/events/pizza-piazza
LOCATION:MC - Mathematics &amp; Computer Building Room 5501 Waterloo ON N2L 3G1
  Canada
SUMMARY:Pizza Piazza
CLASS:PUBLIC
DESCRIPTION:Join us for an in-person meet-up for grad students and postdocs
  who\nidentify as women or under-represented genders. Enjoy pizza and snac
 ks\nduring the Ask Me Anything event with the Feminist Think Tank\, the\nS
 tudent Association for Graduates in English\, and Women in Math.\n\nRegist
 er: https://www.ticketfi.com/event/6085/january-graduate-pizza-piazza
DTSTAMP:20260422T202240Z
END:VEVENT
END:VCALENDAR