BEGIN:VCALENDAR
VERSION:2.0
PRODID:-//Drupal iCal API//EN
X-WR-CALNAME:Events items teaser
X-WR-TIMEZONE:America/Toronto
BEGIN:VTIMEZONE
TZID:America/Toronto
X-LIC-LOCATION:America/Toronto
BEGIN:DAYLIGHT
TZNAME:EDT
TZOFFSETFROM:-0500
TZOFFSETTO:-0400
DTSTART:20250309T070000
END:DAYLIGHT
BEGIN:STANDARD
TZNAME:EST
TZOFFSETFROM:-0400
TZOFFSETTO:-0500
DTSTART:20241103T060000
END:STANDARD
END:VTIMEZONE
BEGIN:VEVENT
UID:69e92f2d29213
DTSTART;TZID=America/Toronto:20251008T123000
SEQUENCE:0
TRANSP:TRANSPARENT
DTEND;TZID=America/Toronto:20251008T133000
URL:https://uwaterloo.ca/english/events/what-can-you-do-english-degree-joy-
 savage
LOCATION:HH - J.G. Hagey Hall of the Humanities Room 2034 Waterloo ON N2L 3
 G1 Canada
SUMMARY:What Can You Do With an English Degree? - Joy Savage
CLASS:PUBLIC
DESCRIPTION:Joy Savage talks about how the skills that she developed in her
  BA\nenabled her strategy consulting and financial services career.
DTSTAMP:20260422T202725Z
END:VEVENT
END:VCALENDAR