BEGIN:VCALENDAR
VERSION:2.0
PRODID:-//Drupal iCal API//EN
X-WR-CALNAME:Events items teaser
X-WR-TIMEZONE:America/Toronto
BEGIN:VTIMEZONE
TZID:America/Toronto
X-LIC-LOCATION:America/Toronto
BEGIN:DAYLIGHT
TZNAME:EDT
TZOFFSETFROM:-0500
TZOFFSETTO:-0400
DTSTART:20250309T070000
END:DAYLIGHT
BEGIN:STANDARD
TZNAME:EST
TZOFFSETFROM:-0400
TZOFFSETTO:-0500
DTSTART:20251102T060000
END:STANDARD
END:VTIMEZONE
BEGIN:VEVENT
UID:69e97a49f33d5
DTSTART;VALUE=DATE:20251201
SEQUENCE:0
TRANSP:TRANSPARENT
DTEND;VALUE=DATE:20251203
URL:https://uwaterloo.ca/english/events/fall-2025-science-communication-sho
 wcase
LOCATION:STC - Science Teaching Complex 200 University Ave West Waterloo ON
  N2L 3G1 Canada
SUMMARY:Fall 2025 Science Communication Showcase
CLASS:PUBLIC
DESCRIPTION:The Fall 2025 Science Communication Showcase\, featuring 24 cla
 sses and\nover 500 students\, will be held on December 1 and 2 in STC 2001
 .
X-MICROSOFT-CDO-ALLDAYEVENT:TRUE
DTSTAMP:20260423T014754Z
END:VEVENT
END:VCALENDAR