BEGIN:VCALENDAR
VERSION:2.0
PRODID:-//Drupal iCal API//EN
X-WR-CALNAME:Events items teaser
X-WR-TIMEZONE:America/Toronto
BEGIN:VTIMEZONE
TZID:America/Toronto
X-LIC-LOCATION:America/Toronto
BEGIN:DAYLIGHT
TZNAME:EDT
TZOFFSETFROM:-0500
TZOFFSETTO:-0400
DTSTART:20250309T070000
END:DAYLIGHT
BEGIN:STANDARD
TZNAME:EST
TZOFFSETFROM:-0400
TZOFFSETTO:-0500
DTSTART:20251102T060000
END:STANDARD
END:VTIMEZONE
BEGIN:VEVENT
UID:69e9455c2a785
DTSTART;TZID=America/Toronto:20260122T113000
SEQUENCE:0
TRANSP:TRANSPARENT
DTEND;TZID=America/Toronto:20260122T124000
URL:https://uwaterloo.ca/english/events/getting-and-working-agent
LOCATION:Physics Building\, Room 145 200 University Avenue West Waterloo ON
  N2L 3G1 Canada
SUMMARY:Getting and Working With An Agent
CLASS:PUBLIC
DESCRIPTION:The inaugural UWaterloo English Creative and Professional Writi
 ng\nRoundtable will be held on Thursday\, Jan. 22\, from 11:30 a.m. - 12:
 40\np.m. in PHY 145. The topic is “Getting and Working With An Agent.”
DTSTAMP:20260422T220204Z
END:VEVENT
END:VCALENDAR