BEGIN:VCALENDAR
VERSION:2.0
PRODID:-//Drupal iCal API//EN
X-WR-CALNAME:Events items teaser
X-WR-TIMEZONE:America/Toronto
BEGIN:VTIMEZONE
TZID:America/Toronto
X-LIC-LOCATION:America/Toronto
BEGIN:DAYLIGHT
TZNAME:EDT
TZOFFSETFROM:-0500
TZOFFSETTO:-0400
DTSTART:20260308T070000
END:DAYLIGHT
BEGIN:STANDARD
TZNAME:EST
TZOFFSETFROM:-0400
TZOFFSETTO:-0500
DTSTART:20251102T060000
END:STANDARD
END:VTIMEZONE
BEGIN:VEVENT
UID:69e9455e9b40d
DTSTART;TZID=America/Toronto:20260401T083000
SEQUENCE:0
TRANSP:TRANSPARENT
DTEND;TZID=America/Toronto:20260401T172000
URL:https://uwaterloo.ca/english/events/science-and-math-communication-show
 case
LOCATION:STC - Science Teaching Complex STC 2001 (the second-floor foyer of
  the Science Teaching Complex) Waterloo ON N2L 3G1 Canada
SUMMARY:Science and Math Communication Showcase
CLASS:PUBLIC
DESCRIPTION:The Department of English and the Department of Communication A
 rts are\nexcited to announce the upcoming Winter 2026 Science and Math\nCo
 mmunication Showcase.
DTSTAMP:20260422T220206Z
END:VEVENT
BEGIN:VEVENT
UID:69e9455e9ec1d
DTSTART;TZID=America/Toronto:20260402T100000
SEQUENCE:0
TRANSP:TRANSPARENT
DTEND;TZID=America/Toronto:20260402T172000
URL:https://uwaterloo.ca/english/events/science-and-math-communication-show
 case
LOCATION:STC - Science Teaching Complex STC 2001 (the second-floor foyer of
  the Science Teaching Complex) Waterloo ON N2L 3G1 Canada
SUMMARY:Science and Math Communication Showcase
CLASS:PUBLIC
DESCRIPTION:The Department of English and the Department of Communication A
 rts are\nexcited to announce the upcoming Winter 2026 Science and Math\nCo
 mmunication Showcase.
DTSTAMP:20260422T220206Z
END:VEVENT
END:VCALENDAR