BEGIN:VCALENDAR
VERSION:2.0
PRODID:-//Drupal iCal API//EN
X-WR-CALNAME:Events items teaser
X-WR-TIMEZONE:America/Toronto
BEGIN:VTIMEZONE
TZID:America/Toronto
X-LIC-LOCATION:America/Toronto
BEGIN:DAYLIGHT
TZNAME:EDT
TZOFFSETFROM:-0500
TZOFFSETTO:-0400
DTSTART:20190310T070000
END:DAYLIGHT
BEGIN:STANDARD
TZNAME:EST
TZOFFSETFROM:-0400
TZOFFSETTO:-0500
DTSTART:20181104T060000
END:STANDARD
END:VTIMEZONE
BEGIN:VEVENT
UID:69eaa92fabcaf
DTSTART;TZID=America/Toronto:20190426T100000
SEQUENCE:0
TRANSP:TRANSPARENT
DTEND;TZID=America/Toronto:20190426T113000
URL:https://uwaterloo.ca/english/events/pink-ink-mastectomy-tattooing-and-s
 elf-care-digital-feminist
LOCATION:HH - J.G. Hagey Hall of the Humanities 200 University Avenue West 
 Room 373 Waterloo ON N2L 3G1 Canada
SUMMARY:P.ink Ink: Mastectomy Tattooing and Self-Care as Digital Feminist B
 ody\nPolitics
CLASS:PUBLIC
DESCRIPTION:[Photo of Reisa Klein.] Dr. Reisa Klein is a Visiting Scholar i
 n the\nDepartment of Modern Languages and Cultural Studies at the Universi
 ty\nof Alberta. Dr. Klein’s current project examines the emergent\ndigi
 tal cultures of breast cancer survivors who use mastectomy tattoos\nin res
 ponse to post-operative surgery and implications for the\nmobilization of 
 a transnational and intersectional feminist politics\nand gendered and rac
 e-based health activism. In addition\, she is\nco-editing a special issue
  of _Imaginations: Journal of\nCross-Cultural Image Studies_ on \"Reimag
 ing Breasts\" slated for\npublication in Fall 2019.  \n\n----------------
 ---------
DTSTAMP:20260423T232015Z
END:VEVENT
END:VCALENDAR