BEGIN:VCALENDAR
VERSION:2.0
PRODID:-//Drupal iCal API//EN
X-WR-CALNAME:Events items teaser
X-WR-TIMEZONE:America/Toronto
BEGIN:VTIMEZONE
TZID:America/Toronto
X-LIC-LOCATION:America/Toronto
BEGIN:DAYLIGHT
TZNAME:EDT
TZOFFSETFROM:-0500
TZOFFSETTO:-0400
DTSTART:20260308T070000
END:DAYLIGHT
BEGIN:STANDARD
TZNAME:EST
TZOFFSETFROM:-0400
TZOFFSETTO:-0500
DTSTART:20251102T060000
END:STANDARD
END:VTIMEZONE
BEGIN:VEVENT
UID:69cc7d86f1e27
DTSTART;TZID=America/Toronto:20260316T110000
SEQUENCE:0
TRANSP:TRANSPARENT
DTEND;TZID=America/Toronto:20260316T180000
URL:https://uwaterloo.ca/environment-resources-and-sustainability/events/kn
 owledge-integration-exhibition-2026
LOCATION:STJ - St. Jerome's University 290 Westmount Road North Waterloo ON
  N2L 3G3 Canada
SUMMARY:Knowledge Integration eXhibition 2026
CLASS:PUBLIC
DESCRIPTION:Come and experience the culmination of the third-year design pr
 ojects\nby Knowledge Integrations in their Museum Course set.\n\nDrop by t
 he St. Jerome's Health and Wellness Gym in the Seigfried Hall\nresidence o
 ver the week of March 16-21 to view both the 2026 KIX\nexhibits and Senior
  Honours Project posters during this double-feature\nof third and fourth-y
 ear capstone projects.
DTSTAMP:20260401T020559Z
END:VEVENT
BEGIN:VEVENT
UID:69cc7d8703ff1
DTSTART;TZID=America/Toronto:20260317T110000
SEQUENCE:0
TRANSP:TRANSPARENT
DTEND;TZID=America/Toronto:20260317T180000
URL:https://uwaterloo.ca/environment-resources-and-sustainability/events/kn
 owledge-integration-exhibition-2026
LOCATION:STJ - St. Jerome's University 290 Westmount Road North Waterloo ON
  N2L 3G3 Canada
SUMMARY:Knowledge Integration eXhibition 2026
CLASS:PUBLIC
DESCRIPTION:Come and experience the culmination of the third-year design pr
 ojects\nby Knowledge Integrations in their Museum Course set.\n\nDrop by t
 he St. Jerome's Health and Wellness Gym in the Seigfried Hall\nresidence o
 ver the week of March 16-21 to view both the 2026 KIX\nexhibits and Senior
  Honours Project posters during this double-feature\nof third and fourth-y
 ear capstone projects.
DTSTAMP:20260401T020559Z
END:VEVENT
BEGIN:VEVENT
UID:69cc7d8704e4b
DTSTART;TZID=America/Toronto:20260318T110000
SEQUENCE:0
TRANSP:TRANSPARENT
DTEND;TZID=America/Toronto:20260318T180000
URL:https://uwaterloo.ca/environment-resources-and-sustainability/events/kn
 owledge-integration-exhibition-2026
LOCATION:STJ - St. Jerome's University 290 Westmount Road North Waterloo ON
  N2L 3G3 Canada
SUMMARY:Knowledge Integration eXhibition 2026
CLASS:PUBLIC
DESCRIPTION:Come and experience the culmination of the third-year design pr
 ojects\nby Knowledge Integrations in their Museum Course set.\n\nDrop by t
 he St. Jerome's Health and Wellness Gym in the Seigfried Hall\nresidence o
 ver the week of March 16-21 to view both the 2026 KIX\nexhibits and Senior
  Honours Project posters during this double-feature\nof third and fourth-y
 ear capstone projects.
DTSTAMP:20260401T020559Z
END:VEVENT
BEGIN:VEVENT
UID:69cc7d8705a40
DTSTART;TZID=America/Toronto:20260319T110000
SEQUENCE:0
TRANSP:TRANSPARENT
DTEND;TZID=America/Toronto:20260319T180000
URL:https://uwaterloo.ca/environment-resources-and-sustainability/events/kn
 owledge-integration-exhibition-2026
LOCATION:STJ - St. Jerome's University 290 Westmount Road North Waterloo ON
  N2L 3G3 Canada
SUMMARY:Knowledge Integration eXhibition 2026
CLASS:PUBLIC
DESCRIPTION:Come and experience the culmination of the third-year design pr
 ojects\nby Knowledge Integrations in their Museum Course set.\n\nDrop by t
 he St. Jerome's Health and Wellness Gym in the Seigfried Hall\nresidence o
 ver the week of March 16-21 to view both the 2026 KIX\nexhibits and Senior
  Honours Project posters during this double-feature\nof third and fourth-y
 ear capstone projects.
DTSTAMP:20260401T020559Z
END:VEVENT
BEGIN:VEVENT
UID:69cc7d870667f
DTSTART;TZID=America/Toronto:20260320T110000
SEQUENCE:0
TRANSP:TRANSPARENT
DTEND;TZID=America/Toronto:20260320T170000
URL:https://uwaterloo.ca/environment-resources-and-sustainability/events/kn
 owledge-integration-exhibition-2026
LOCATION:STJ - St. Jerome's University 290 Westmount Road North Waterloo ON
  N2L 3G3 Canada
SUMMARY:Knowledge Integration eXhibition 2026
CLASS:PUBLIC
DESCRIPTION:Come and experience the culmination of the third-year design pr
 ojects\nby Knowledge Integrations in their Museum Course set.\n\nDrop by t
 he St. Jerome's Health and Wellness Gym in the Seigfried Hall\nresidence o
 ver the week of March 16-21 to view both the 2026 KIX\nexhibits and Senior
  Honours Project posters during this double-feature\nof third and fourth-y
 ear capstone projects.
DTSTAMP:20260401T020559Z
END:VEVENT
BEGIN:VEVENT
UID:69cc7d870732a
DTSTART;TZID=America/Toronto:20260321T100000
SEQUENCE:0
TRANSP:TRANSPARENT
DTEND;TZID=America/Toronto:20260321T160000
URL:https://uwaterloo.ca/environment-resources-and-sustainability/events/kn
 owledge-integration-exhibition-2026
LOCATION:STJ - St. Jerome's University 290 Westmount Road North Waterloo ON
  N2L 3G3 Canada
SUMMARY:Knowledge Integration eXhibition 2026
CLASS:PUBLIC
DESCRIPTION:Come and experience the culmination of the third-year design pr
 ojects\nby Knowledge Integrations in their Museum Course set.\n\nDrop by t
 he St. Jerome's Health and Wellness Gym in the Seigfried Hall\nresidence o
 ver the week of March 16-21 to view both the 2026 KIX\nexhibits and Senior
  Honours Project posters during this double-feature\nof third and fourth-y
 ear capstone projects.
DTSTAMP:20260401T020559Z
END:VEVENT
END:VCALENDAR