BEGIN:VCALENDAR
VERSION:2.0
PRODID:-//Drupal iCal API//EN
X-WR-CALNAME:Events items teaser
X-WR-TIMEZONE:America/Toronto
BEGIN:VTIMEZONE
TZID:America/Toronto
X-LIC-LOCATION:America/Toronto
BEGIN:DAYLIGHT
TZNAME:EDT
TZOFFSETFROM:-0500
TZOFFSETTO:-0400
DTSTART:20220313T070000
END:DAYLIGHT
BEGIN:STANDARD
TZNAME:EST
TZOFFSETFROM:-0400
TZOFFSETTO:-0500
DTSTART:20221106T060000
END:STANDARD
END:VTIMEZONE
BEGIN:VEVENT
UID:69e56f13989e7
DTSTART;TZID=America/Toronto:20230117T150000
SEQUENCE:0
TRANSP:TRANSPARENT
DTEND;TZID=America/Toronto:20230117T150000
URL:https://uwaterloo.ca/environment/events/alumni-office-hour-sustainabili
 ty-careers-natural-resources
SUMMARY:Alumni Office Hour: Sustainability Careers in Natural Resources
CLASS:PUBLIC
DESCRIPTION:The natural resource sector both affects and is affected by cli
 mate\nchange. Join ERS grad Chris Adachi for insights on the future of\nsu
 stainability related roles in the natural resource sector. As the\nDirecto
 r of Climate Change at Teck Resources\, Chris focuses on all\ndimensions o
 f climate change\, including the pursuit of decarbonization\ntechnologies 
 and working with governments to support these\ntechnologies.
DTSTAMP:20260420T001059Z
END:VEVENT
END:VCALENDAR