BEGIN:VCALENDAR
VERSION:2.0
PRODID:-//Drupal iCal API//EN
X-WR-CALNAME:Events items teaser
X-WR-TIMEZONE:America/Toronto
BEGIN:VTIMEZONE
TZID:America/Toronto
X-LIC-LOCATION:America/Toronto
BEGIN:DAYLIGHT
TZNAME:EDT
TZOFFSETFROM:-0500
TZOFFSETTO:-0400
DTSTART:20220313T070000
END:DAYLIGHT
BEGIN:STANDARD
TZNAME:EST
TZOFFSETFROM:-0400
TZOFFSETTO:-0500
DTSTART:20221106T060000
END:STANDARD
END:VTIMEZONE
BEGIN:VEVENT
UID:69e56f121e36f
DTSTART;TZID=America/Toronto:20230125T160000
SEQUENCE:0
TRANSP:TRANSPARENT
DTEND;TZID=America/Toronto:20230125T160000
URL:https://uwaterloo.ca/environment/events/alumni-office-hour-evolving-sec
 tor-waste-management
SUMMARY:Alumni Office Hour: The Evolving Sector of Waste Management
CLASS:PUBLIC
DESCRIPTION:Ever wonder what it’s like to work for a municipality? Curiou
 s about\nCanada’s various waste management systems? Get the answers to t
 hese\nquestions and more in GEM grad\, Olivia Kwok’s Alumni Office Hour.
 \nOlivia has over 11 years of experience working in the municipal waste\ni
 ndustry across Canada. It’s a constantly evolving field\, so join\nOlivi
 a to learn about the opportunities in the industry\, what it’s\nlike wor
 king across Canada and to hear her tips on informational\ninterviews.
DTSTAMP:20260420T001058Z
END:VEVENT
END:VCALENDAR