BEGIN:VCALENDAR
VERSION:2.0
PRODID:-//Drupal iCal API//EN
X-WR-CALNAME:Events items teaser
X-WR-TIMEZONE:America/Toronto
BEGIN:VTIMEZONE
TZID:America/Toronto
X-LIC-LOCATION:America/Toronto
BEGIN:DAYLIGHT
TZNAME:EDT
TZOFFSETFROM:-0500
TZOFFSETTO:-0400
DTSTART:20220313T070000
END:DAYLIGHT
BEGIN:STANDARD
TZNAME:EST
TZOFFSETFROM:-0400
TZOFFSETTO:-0500
DTSTART:20221106T060000
END:STANDARD
END:VTIMEZONE
BEGIN:VEVENT
UID:69e560194d7a5
DTSTART;TZID=America/Toronto:20230227T163000
SEQUENCE:0
TRANSP:TRANSPARENT
DTEND;TZID=America/Toronto:20230227T163000
URL:https://uwaterloo.ca/environment/events/alumni-office-hour-intersection
 -technology-manufacturing
SUMMARY:Alumni Office Hour: At the Intersection of Technology\, Manufacturi
 ng &amp;\nSustainability
CLASS:PUBLIC
DESCRIPTION:Whether you’re interested in entrepreneurship\, manufacturing
  or\nIndustrial IoT\, join Geography grad Dave Fox for a value-packed Alum
 ni\nOffice Hour.
DTSTAMP:20260419T230705Z
END:VEVENT
END:VCALENDAR