BEGIN:VCALENDAR
VERSION:2.0
PRODID:-//Drupal iCal API//EN
X-WR-CALNAME:Events items teaser
X-WR-TIMEZONE:America/Toronto
BEGIN:VTIMEZONE
TZID:America/Toronto
X-LIC-LOCATION:America/Toronto
BEGIN:DAYLIGHT
TZNAME:EDT
TZOFFSETFROM:-0500
TZOFFSETTO:-0400
DTSTART:20220313T070000
END:DAYLIGHT
BEGIN:STANDARD
TZNAME:EST
TZOFFSETFROM:-0400
TZOFFSETTO:-0500
DTSTART:20221106T060000
END:STANDARD
END:VTIMEZONE
BEGIN:VEVENT
UID:69e56f18a6c94
DTSTART;TZID=America/Toronto:20230202T170000
SEQUENCE:0
TRANSP:TRANSPARENT
DTEND;TZID=America/Toronto:20230202T170000
URL:https://uwaterloo.ca/environment/events/alumni-office-hour-courageous-c
 onversations
SUMMARY:Alumni Office Hour: Courageous Conversations
CLASS:PUBLIC
DESCRIPTION:Erin Murray is an advocate for both environmental sustainabilit
 y and\nmental health. In addition to her work supporting biodiversity with
 \nthe Canadian Wildlife Services\, Erin recently published her second\nboo
 k\, a poetry collection called Courageous Conversations\, an ode to\nmenta
 l illness that aims to remove the stigma surrounding mental\nhealth.  
DTSTAMP:20260420T001104Z
END:VEVENT
END:VCALENDAR