BEGIN:VCALENDAR
VERSION:2.0
PRODID:-//Drupal iCal API//EN
X-WR-CALNAME:Events items teaser
X-WR-TIMEZONE:America/Toronto
BEGIN:VTIMEZONE
TZID:America/Toronto
X-LIC-LOCATION:America/Toronto
BEGIN:DAYLIGHT
TZNAME:EDT
TZOFFSETFROM:-0500
TZOFFSETTO:-0400
DTSTART:20230312T070000
END:DAYLIGHT
BEGIN:STANDARD
TZNAME:EST
TZOFFSETFROM:-0400
TZOFFSETTO:-0500
DTSTART:20221106T060000
END:STANDARD
END:VTIMEZONE
BEGIN:VEVENT
UID:69e56f1837a10
DTSTART;TZID=America/Toronto:20230404T130000
SEQUENCE:0
TRANSP:TRANSPARENT
DTEND;TZID=America/Toronto:20230404T130000
URL:https://uwaterloo.ca/environment/events/alumni-office-hour-managing-unc
 ertainty-international
SUMMARY:Alumni Office Hour: Managing Uncertainty in International Developme
 nt
CLASS:PUBLIC
DESCRIPTION:Being comfortable in chaos is no easy task. Just ask INDEV alum
 \, Seyni\nMbaye who works as a program officer at Results for Development\
 nsupporting the Strategic Purchasing Africa Resource Center (SPARC) and\nt
 he Health System Strengthening Accelerator (HSSA) projects for the\nprogre
 ss toward Universal Health Coverage (UHC) in sub-Saharan\nAfrica.
DTSTAMP:20260420T001104Z
END:VEVENT
END:VCALENDAR