BEGIN:VCALENDAR
VERSION:2.0
PRODID:-//Drupal iCal API//EN
X-WR-CALNAME:Events items teaser
X-WR-TIMEZONE:America/Toronto
BEGIN:VTIMEZONE
TZID:America/Toronto
X-LIC-LOCATION:America/Toronto
BEGIN:DAYLIGHT
TZNAME:EDT
TZOFFSETFROM:-0500
TZOFFSETTO:-0400
DTSTART:20220313T070000
END:DAYLIGHT
BEGIN:STANDARD
TZNAME:EST
TZOFFSETFROM:-0400
TZOFFSETTO:-0500
DTSTART:20221106T060000
END:STANDARD
END:VTIMEZONE
BEGIN:VEVENT
UID:69e56f1730444
DTSTART;TZID=America/Toronto:20230216T160000
SEQUENCE:0
TRANSP:TRANSPARENT
DTEND;TZID=America/Toronto:20230216T160000
URL:https://uwaterloo.ca/environment/events/alumni-office-hour-discover-you
 r-niche-digital-networking
SUMMARY:Alumni Office Hour: Discover your Niche by Digital Networking
CLASS:PUBLIC
DESCRIPTION:There’s a saying “the riches are in the niches” and for g
 rads\nfacing an uncertain job market\, it’s valuable advice. 2021 planni
 ng\ngrad\, Anika Abdullah found her niche as an accessibility specialist\n
 with DesignABLE Environments through digital networking and cold\ncalls.
DTSTAMP:20260420T001103Z
END:VEVENT
END:VCALENDAR