BEGIN:VCALENDAR
VERSION:2.0
PRODID:-//Drupal iCal API//EN
X-WR-CALNAME:Events items teaser
X-WR-TIMEZONE:America/Toronto
BEGIN:VTIMEZONE
TZID:America/Toronto
X-LIC-LOCATION:America/Toronto
BEGIN:DAYLIGHT
TZNAME:EDT
TZOFFSETFROM:-0500
TZOFFSETTO:-0400
DTSTART:20220313T070000
END:DAYLIGHT
BEGIN:STANDARD
TZNAME:EST
TZOFFSETFROM:-0400
TZOFFSETTO:-0500
DTSTART:20221106T060000
END:STANDARD
END:VTIMEZONE
BEGIN:VEVENT
UID:69e56f1ba4f7c
DTSTART;TZID=America/Toronto:20230208T140000
SEQUENCE:0
TRANSP:TRANSPARENT
DTEND;TZID=America/Toronto:20230208T140000
URL:https://uwaterloo.ca/environment/events/alumni-office-hour-soft-skills-
 career-success
SUMMARY:Alumni Office Hour: Soft Skills for Career Success
CLASS:PUBLIC
DESCRIPTION:Soft skills – everyone has heard of them but what are they? W
 hy do\nwe need them? And how do you develop them? \n\nJoin ERS grad Cather
 ine Coleman to hear insights on transferrable soft\nskills like networking
  as an introvert\, building relationships from\nzero\, integrating your in
 terests/passion in your career path and the\ngive-and-take of work relatio
 nships.
DTSTAMP:20260420T001107Z
END:VEVENT
END:VCALENDAR