BEGIN:VCALENDAR
VERSION:2.0
PRODID:-//Drupal iCal API//EN
X-WR-CALNAME:Events items teaser
X-WR-TIMEZONE:America/Toronto
BEGIN:VTIMEZONE
TZID:America/Toronto
X-LIC-LOCATION:America/Toronto
BEGIN:DAYLIGHT
TZNAME:EDT
TZOFFSETFROM:-0500
TZOFFSETTO:-0400
DTSTART:20230312T070000
END:DAYLIGHT
BEGIN:STANDARD
TZNAME:EST
TZOFFSETFROM:-0400
TZOFFSETTO:-0500
DTSTART:20221106T060000
END:STANDARD
END:VTIMEZONE
BEGIN:VEVENT
UID:69e56f1e2122e
DTSTART;TZID=America/Toronto:20230327T163000
SEQUENCE:0
TRANSP:TRANSPARENT
DTEND;TZID=America/Toronto:20230327T163000
URL:https://uwaterloo.ca/environment/events/alumni-office-hour-sustainabili
 ty-government-relations-and
SUMMARY:Alumni Office Hour: Sustainability\, Government Relations and\nProf
 essional Growth
CLASS:PUBLIC
DESCRIPTION:Are you comfortable stretching beyond your comfort zone? Have y
 ou\ndecided whether you’re going to be a generalist or a specialist in\n
 your field? Are you interested in the importance of government\nrelations 
 to help drive an organization’s sustainability strategy?\nThese are some
  of the topics ENBUS grad\, Ravi Chauhan will share in\nuse Alumni Office 
 Hour.
DTSTAMP:20260420T001110Z
END:VEVENT
END:VCALENDAR