BEGIN:VCALENDAR
VERSION:2.0
PRODID:-//Drupal iCal API//EN
X-WR-CALNAME:Events items teaser
X-WR-TIMEZONE:America/Toronto
BEGIN:VTIMEZONE
TZID:America/Toronto
X-LIC-LOCATION:America/Toronto
BEGIN:DAYLIGHT
TZNAME:EDT
TZOFFSETFROM:-0500
TZOFFSETTO:-0400
DTSTART:20230312T070000
END:DAYLIGHT
BEGIN:STANDARD
TZNAME:EST
TZOFFSETFROM:-0400
TZOFFSETTO:-0500
DTSTART:20221106T060000
END:STANDARD
END:VTIMEZONE
BEGIN:VEVENT
UID:69e50d3709007
DTSTART;TZID=America/Toronto:20230314T173000
SEQUENCE:0
TRANSP:TRANSPARENT
DTEND;TZID=America/Toronto:20230314T173000
URL:https://uwaterloo.ca/environment/events/alumni-office-hour-power-saying
 -yes
SUMMARY:Alumni Office Hour: The Power of Saying Yes
CLASS:PUBLIC
DESCRIPTION:You can’t underestimate the power of saying ‘yes’ while e
 arly in\nyour career. From volunteering to trying out a different sector
  to\nstarting a master’s degree\, saying ‘yes’ has helped ENBUS gra
 d\nAlice Bao grow her professional network and build her career in the\nfi
 nancial services sector.
DTSTAMP:20260419T171327Z
END:VEVENT
END:VCALENDAR