BEGIN:VCALENDAR
VERSION:2.0
PRODID:-//Drupal iCal API//EN
X-WR-CALNAME:Events items teaser
X-WR-TIMEZONE:America/Toronto
BEGIN:VTIMEZONE
TZID:America/Toronto
X-LIC-LOCATION:America/Toronto
BEGIN:DAYLIGHT
TZNAME:EDT
TZOFFSETFROM:-0500
TZOFFSETTO:-0400
DTSTART:20220313T070000
END:DAYLIGHT
BEGIN:STANDARD
TZNAME:EST
TZOFFSETFROM:-0400
TZOFFSETTO:-0500
DTSTART:20221106T060000
END:STANDARD
END:VTIMEZONE
BEGIN:VEVENT
UID:69e6abe7834ed
DTSTART;TZID=America/Toronto:20230308T140000
SEQUENCE:0
TRANSP:TRANSPARENT
DTEND;TZID=America/Toronto:20230308T153000
URL:https://uwaterloo.ca/environment/events/td-walter-bean-meet-and-greet
LOCATION:EV1 - Environment 1 200 University Ave West 221 Waterloo ON N2L 3G
 1 Canada
SUMMARY:TD Walter Bean Meet and Greet
CLASS:PUBLIC
DESCRIPTION:This year's TD Walter Bean visiting professor\, Dr. Shari Fox\
 , will\nbe returning to campus to meet with graduate students and\nprofes
 sors across Waterloo's six faculties. This is going to be a\nunique oppo
 rtunity to connect in a small group with Dr. Fox about her\nresearch in th
 e Arctic working alongside Inuit collaborators. Register\nnow! [https://uw
 aterloo.ca/environment/register-td-walter-bean]
DTSTAMP:20260420T224247Z
END:VEVENT
END:VCALENDAR