BEGIN:VCALENDAR
VERSION:2.0
PRODID:-//Drupal iCal API//EN
X-WR-CALNAME:Events items teaser
X-WR-TIMEZONE:America/Toronto
BEGIN:VTIMEZONE
TZID:America/Toronto
X-LIC-LOCATION:America/Toronto
BEGIN:DAYLIGHT
TZNAME:EDT
TZOFFSETFROM:-0500
TZOFFSETTO:-0400
DTSTART:20230312T070000
END:DAYLIGHT
BEGIN:STANDARD
TZNAME:EST
TZOFFSETFROM:-0400
TZOFFSETTO:-0500
DTSTART:20221106T060000
END:STANDARD
END:VTIMEZONE
BEGIN:VEVENT
UID:69e615b29e7ad
DTSTART;TZID=America/Toronto:20230313T000000
SEQUENCE:0
TRANSP:TRANSPARENT
DTEND;TZID=America/Toronto:20230318T000000
URL:https://uwaterloo.ca/environment/events/knowledge-integration-exhibitio
 n-kix-2023
SUMMARY:Knowledge Integration eXhibition: KIX 2023
CLASS:PUBLIC
DESCRIPTION:_KIX (n): Knowledge Integration eXhibition\; a convergence of\n
 disciplines\, teaching methods and creative minds in an object-centric\nex
 hibition on topics related to the United Nations’ __Sustainable\nDevelo
 pment __Goals._\n\nThe students in the Knowledge Integration program invi
 te you to\nexperience the culmination of our third-year design project: Th
 e\nMuseum Course. Working in teams to produce these exhibits has been a\nr
 ewarding and unique experience.
DTSTAMP:20260420T120154Z
END:VEVENT
END:VCALENDAR