BEGIN:VCALENDAR
VERSION:2.0
PRODID:-//Drupal iCal API//EN
X-WR-CALNAME:Events items teaser
X-WR-TIMEZONE:America/Toronto
BEGIN:VTIMEZONE
TZID:America/Toronto
X-LIC-LOCATION:America/Toronto
BEGIN:DAYLIGHT
TZNAME:EDT
TZOFFSETFROM:-0500
TZOFFSETTO:-0400
DTSTART:20230312T070000
END:DAYLIGHT
BEGIN:STANDARD
TZNAME:EST
TZOFFSETFROM:-0400
TZOFFSETTO:-0500
DTSTART:20221106T060000
END:STANDARD
END:VTIMEZONE
BEGIN:VEVENT
UID:69e50e548c4c5
DTSTART;TZID=America/Toronto:20230323T130000
SEQUENCE:0
TRANSP:TRANSPARENT
DTEND;TZID=America/Toronto:20230323T130000
URL:https://uwaterloo.ca/environment/events/alumni-office-hour-lessons-deca
 des-environmental-consulting
SUMMARY:Alumni Office Hour: Lessons from Decades of Environmental Consultin
 g
CLASS:PUBLIC
DESCRIPTION:Derek Coleman is a PhD graduate (1974) from the University of\
 nWaterloo’s School of Planning. A pioneer in environmental policy in\nOn
 tario Planning\, Derek started one of the first environmental\nconsulting 
 firms in the province in 1972- Ecologistics Ltd. Since\nthen\, he has comp
 leted more than 1\,000 projects in Ontario and six\nother provinces over f
 ive decades.
DTSTAMP:20260419T171812Z
END:VEVENT
END:VCALENDAR