BEGIN:VCALENDAR
VERSION:2.0
PRODID:-//Drupal iCal API//EN
X-WR-CALNAME:Events items teaser
X-WR-TIMEZONE:America/Toronto
BEGIN:VTIMEZONE
TZID:America/Toronto
X-LIC-LOCATION:America/Toronto
BEGIN:DAYLIGHT
TZNAME:EDT
TZOFFSETFROM:-0500
TZOFFSETTO:-0400
DTSTART:20230312T070000
END:DAYLIGHT
BEGIN:STANDARD
TZNAME:EST
TZOFFSETFROM:-0400
TZOFFSETTO:-0500
DTSTART:20221106T060000
END:STANDARD
END:VTIMEZONE
BEGIN:VEVENT
UID:69e5ccb659211
DTSTART;TZID=America/Toronto:20230405T103000
SEQUENCE:0
TRANSP:TRANSPARENT
DTEND;TZID=America/Toronto:20230405T123000
URL:https://uwaterloo.ca/environment/events/senior-honours-poster-fair
LOCATION:EV1 - Environment 1 200 University Ave West Courtyard Waterloo ON 
 N2L 3G1 Canada
SUMMARY:Senior honours poster fair
CLASS:PUBLIC
DESCRIPTION:Discover what senior honours students from the School of Envir
 onment\,\nResources and Sustainability have been working on for their thes
 is\nresearch projects. Join them in the EV1 courtyard to talk about their
 \nfindings and check out their eye-catching posters!
DTSTAMP:20260420T065030Z
END:VEVENT
END:VCALENDAR