BEGIN:VCALENDAR
VERSION:2.0
PRODID:-//Drupal iCal API//EN
X-WR-CALNAME:Events items teaser
X-WR-TIMEZONE:America/Toronto
BEGIN:VTIMEZONE
TZID:America/Toronto
X-LIC-LOCATION:America/Toronto
BEGIN:DAYLIGHT
TZNAME:EDT
TZOFFSETFROM:-0500
TZOFFSETTO:-0400
DTSTART:20230312T070000
END:DAYLIGHT
BEGIN:STANDARD
TZNAME:EST
TZOFFSETFROM:-0400
TZOFFSETTO:-0500
DTSTART:20221106T060000
END:STANDARD
END:VTIMEZONE
BEGIN:VEVENT
UID:69e397f24c052
DTSTART;TZID=America/Toronto:20230713T120000
SEQUENCE:0
TRANSP:TRANSPARENT
DTEND;TZID=America/Toronto:20230713T133000
URL:https://uwaterloo.ca/environment/events/rebuilding-community
SUMMARY:(Re)Building Community
CLASS:PUBLIC
DESCRIPTION:Let's gather and connect! Students\, staff and faculty are invi
 ted to\nthe EV3 Atrium on Thursday\, July 13 from 12 to 1:30 p.m. for snac
 ks\nand drinks. Hosted by Dean Frayne\, this is an opportunity to re(build
 )\ncare and connection with others in the Faculty of Environment and is\nt
 he first in a series of community building events. No registration is\nreq
 uired.
DTSTAMP:20260418T144050Z
END:VEVENT
END:VCALENDAR