BEGIN:VCALENDAR
VERSION:2.0
PRODID:-//Drupal iCal API//EN
X-WR-CALNAME:Events items teaser
X-WR-TIMEZONE:America/Toronto
BEGIN:VTIMEZONE
TZID:America/Toronto
X-LIC-LOCATION:America/Toronto
BEGIN:DAYLIGHT
TZNAME:EDT
TZOFFSETFROM:-0500
TZOFFSETTO:-0400
DTSTART:20230312T070000
END:DAYLIGHT
BEGIN:STANDARD
TZNAME:EST
TZOFFSETFROM:-0400
TZOFFSETTO:-0500
DTSTART:20231105T060000
END:STANDARD
END:VTIMEZONE
BEGIN:VEVENT
UID:69e50e5414104
DTSTART;TZID=America/Toronto:20231207T110000
SEQUENCE:0
TRANSP:TRANSPARENT
DTEND;TZID=America/Toronto:20231207T120000
URL:https://uwaterloo.ca/environment/events/alumni-office-hour-ask-me-anyth
 ing-career-conversation-ryan
SUMMARY:Alumni Office Hour: Ask me Anything - A career conversation with Ry
 an\nGuetter
CLASS:PUBLIC
DESCRIPTION:Ever wonder what it's like to work for one of the largest and m
 ost\nexperienced planning and urban design firms in Canada? Are you a\nPla
 nning student who is daunted by the idea of appearing before\nmunicipal co
 uncils and tribunals? Hear from Planning alumnus\, Ryan\nGuetter (BES’03
 \, MCIP\, RPP) as he draws on almost 20 years of\nexperience working at We
 ston Consulting. Experienced in feasibility\nstudies\, development proform
 as\, urban design\, community master plans\,\nsubdivision design\, zoning 
 by-laws and more\, Ryan’s expertise as a\nplanner and project manager is
  sure to be insightful for any Planning\nstudent.
DTSTAMP:20260419T171812Z
END:VEVENT
END:VCALENDAR