BEGIN:VCALENDAR
VERSION:2.0
PRODID:-//Drupal iCal API//EN
X-WR-CALNAME:Events items teaser
X-WR-TIMEZONE:America/Toronto
BEGIN:VTIMEZONE
TZID:America/Toronto
X-LIC-LOCATION:America/Toronto
BEGIN:DAYLIGHT
TZNAME:EDT
TZOFFSETFROM:-0500
TZOFFSETTO:-0400
DTSTART:20230312T070000
END:DAYLIGHT
BEGIN:STANDARD
TZNAME:EST
TZOFFSETFROM:-0400
TZOFFSETTO:-0500
DTSTART:20231105T060000
END:STANDARD
END:VTIMEZONE
BEGIN:VEVENT
UID:69e5e69ebefb7
DTSTART;TZID=America/Vancouver:20240220T173000
SEQUENCE:0
TRANSP:TRANSPARENT
DTEND;TZID=America/Vancouver:20240220T193000
URL:https://uwaterloo.ca/environment/events/corridor-film-screening-and-com
 munity-building-event
LOCATION:Science World 1455 Quebec St Vancouver BC V6A 3Z7 Canada
SUMMARY:The Corridor: Film Screening and Community Building Event
CLASS:PUBLIC
DESCRIPTION:Join fellow UWaterloo alumni from the Greater Vancouver Area fo
 r a\nfilm screening and community building event featuring The Corridor\, 
 a\nfilm by environmental alliance\, Age of Union. All are welcome to this\
 neducational and family-friendly event at the Science World!
DTSTAMP:20260420T084102Z
END:VEVENT
END:VCALENDAR