BEGIN:VCALENDAR
VERSION:2.0
PRODID:-//Drupal iCal API//EN
X-WR-CALNAME:Events items teaser
X-WR-TIMEZONE:America/Toronto
BEGIN:VTIMEZONE
TZID:America/Toronto
X-LIC-LOCATION:America/Toronto
BEGIN:DAYLIGHT
TZNAME:EDT
TZOFFSETFROM:-0500
TZOFFSETTO:-0400
DTSTART:20230312T070000
END:DAYLIGHT
BEGIN:STANDARD
TZNAME:EST
TZOFFSETFROM:-0400
TZOFFSETTO:-0500
DTSTART:20231105T060000
END:STANDARD
END:VTIMEZONE
BEGIN:VEVENT
UID:69e50e539487f
DTSTART;TZID=America/Toronto:20240122T120000
SEQUENCE:0
TRANSP:TRANSPARENT
DTEND;TZID=America/Toronto:20240122T130000
URL:https://uwaterloo.ca/environment/events/mapping-success-unexpected-jour
 ney-geography-market-research
SUMMARY:Mapping Success: An unexpected journey from Geography to Market\nRe
 search with Matthew Denomme
CLASS:PUBLIC
DESCRIPTION:Embark on a compelling exploration with Matthew Denomme\, (BES 
 &amp; MA\n1991-8) a distinguished alumnus of the University of Waterloo's\nFac
 ulty of Environment Geography program\, as he unveils his unexpected\njour
 ney from Geography and Economic studies to a thriving career in\nmarket re
 search. In this session\, Matthew will share insightful\nperspectives glea
 ned from over two decades as an international\nstrategic marketing and res
 earch leader. Matthew's unexpected leap\nserves as a roadmap for students\
 , showcasing the transformative power\nof interdisciplinary skills in forg
 ing a unique and impactful\nprofessional path. Don't miss this opportunity
  to navigate the\nuncharted and make your own unexpected leap to success.
  
DTSTAMP:20260419T171811Z
END:VEVENT
END:VCALENDAR