BEGIN:VCALENDAR
VERSION:2.0
PRODID:-//Drupal iCal API//EN
X-WR-CALNAME:Events items teaser
X-WR-TIMEZONE:America/Toronto
BEGIN:VTIMEZONE
TZID:America/Toronto
X-LIC-LOCATION:America/Toronto
BEGIN:DAYLIGHT
TZNAME:EDT
TZOFFSETFROM:-0500
TZOFFSETTO:-0400
DTSTART:20230312T070000
END:DAYLIGHT
BEGIN:STANDARD
TZNAME:EST
TZOFFSETFROM:-0400
TZOFFSETTO:-0500
DTSTART:20231105T060000
END:STANDARD
END:VTIMEZONE
BEGIN:VEVENT
UID:69e5268dc5a08
DTSTART;TZID=America/Toronto:20240215T130000
SEQUENCE:0
TRANSP:TRANSPARENT
DTEND;TZID=America/Toronto:20240215T140000
URL:https://uwaterloo.ca/environment/events/balancing-act-academia-co-found
 er-nastaran-saberi
SUMMARY:Balancing act: From academia to co-founder with Nastaran Saberi
CLASS:PUBLIC
DESCRIPTION:What's it like to start a new company? Join the co-founder of G
 eomate\,\nNastaran Saberi to learn how she pursued her entrepreneurial goa
 ls\nwhile maintaining a healthy work-life balance\, a must-have skill fo
 r\nany professional.
DTSTAMP:20260419T190133Z
END:VEVENT
END:VCALENDAR