BEGIN:VCALENDAR
VERSION:2.0
PRODID:-//Drupal iCal API//EN
X-WR-CALNAME:Events items teaser
X-WR-TIMEZONE:America/Toronto
BEGIN:VTIMEZONE
TZID:America/Toronto
X-LIC-LOCATION:America/Toronto
BEGIN:DAYLIGHT
TZNAME:EDT
TZOFFSETFROM:-0500
TZOFFSETTO:-0400
DTSTART:20230312T070000
END:DAYLIGHT
BEGIN:STANDARD
TZNAME:EST
TZOFFSETFROM:-0400
TZOFFSETTO:-0500
DTSTART:20231105T060000
END:STANDARD
END:VTIMEZONE
BEGIN:VEVENT
UID:69e663dbf0913
DTSTART;TZID=America/Toronto:20240115T130000
SEQUENCE:0
TRANSP:TRANSPARENT
DTEND;TZID=America/Toronto:20240115T140000
URL:https://uwaterloo.ca/environment/events/alumni-office-hours-oh-places-y
 oull-go-envbus-career-panel
SUMMARY:Alumni Office Hours: \"Oh the Places You'll Go\"- An Alumni Career 
 Panel
CLASS:PUBLIC
DESCRIPTION:Curious where a UWaterloo Environment degree can take you? Join
  5\nEnvironment and Business alumni to learn about their different career\
 njourneys\, from law and investment to energy and sustainable\nagriculture
 .
DTSTAMP:20260420T173524Z
END:VEVENT
END:VCALENDAR