BEGIN:VCALENDAR
VERSION:2.0
PRODID:-//Drupal iCal API//EN
X-WR-CALNAME:Events items teaser
X-WR-TIMEZONE:America/Toronto
BEGIN:VTIMEZONE
TZID:America/Toronto
X-LIC-LOCATION:America/Toronto
BEGIN:DAYLIGHT
TZNAME:EDT
TZOFFSETFROM:-0500
TZOFFSETTO:-0400
DTSTART:20230312T070000
END:DAYLIGHT
BEGIN:STANDARD
TZNAME:EST
TZOFFSETFROM:-0400
TZOFFSETTO:-0500
DTSTART:20231105T060000
END:STANDARD
END:VTIMEZONE
BEGIN:VEVENT
UID:69e663d6ef598
DTSTART;TZID=America/Toronto:20240208T160000
SEQUENCE:0
TRANSP:TRANSPARENT
DTEND;TZID=America/Toronto:20240208T170000
URL:https://uwaterloo.ca/environment/events/consulting-academia-reflecting-
 multi-sectoral-career-journey
SUMMARY:Consulting to academia: Reflecting on a multi-sectoral career journ
 ey
CLASS:PUBLIC
DESCRIPTION:Changing jobs\, even careers\, is something that modern workers
  are\nembracing. Join Dr. Stephanie Whitney as she shares her journey fro
 m\nconsulting to academia and answers your questions about these\nindustri
 es\, embracing change and taking well-reasoned risks. 
DTSTAMP:20260420T173518Z
END:VEVENT
END:VCALENDAR