BEGIN:VCALENDAR
VERSION:2.0
PRODID:-//Drupal iCal API//EN
X-WR-CALNAME:Events items teaser
X-WR-TIMEZONE:America/Toronto
BEGIN:VTIMEZONE
TZID:America/Toronto
X-LIC-LOCATION:America/Toronto
BEGIN:DAYLIGHT
TZNAME:EDT
TZOFFSETFROM:-0500
TZOFFSETTO:-0400
DTSTART:20230312T070000
END:DAYLIGHT
BEGIN:STANDARD
TZNAME:EST
TZOFFSETFROM:-0400
TZOFFSETTO:-0500
DTSTART:20231105T060000
END:STANDARD
END:VTIMEZONE
BEGIN:VEVENT
UID:69e4240c9c8c7
DTSTART;TZID=America/Toronto:20240304T110000
SEQUENCE:0
TRANSP:TRANSPARENT
DTEND;TZID=America/Toronto:20240304T120000
URL:https://uwaterloo.ca/environment/events/building-success-canadian-hotel
 -real-estate
SUMMARY:Building success in Canadian hotel real estate
CLASS:PUBLIC
DESCRIPTION:Ready to unlock the keys to real estate success? Join Joel Dohe
 rty for\ninsider strategies and career insights from 20+ years in the busi
 ness\,\nmanaging a portfolio of $500+ Million in assets. Don't miss out!
DTSTAMP:20260419T003836Z
END:VEVENT
END:VCALENDAR