BEGIN:VCALENDAR
VERSION:2.0
PRODID:-//Drupal iCal API//EN
X-WR-CALNAME:Events items teaser
X-WR-TIMEZONE:America/Toronto
BEGIN:VTIMEZONE
TZID:America/Toronto
X-LIC-LOCATION:America/Toronto
BEGIN:DAYLIGHT
TZNAME:EDT
TZOFFSETFROM:-0500
TZOFFSETTO:-0400
DTSTART:20240310T070000
END:DAYLIGHT
BEGIN:STANDARD
TZNAME:EST
TZOFFSETFROM:-0400
TZOFFSETTO:-0500
DTSTART:20241103T060000
END:STANDARD
END:VTIMEZONE
BEGIN:VEVENT
UID:69e59d0bcdd6a
DTSTART;TZID=America/Toronto:20241120T103000
SEQUENCE:0
TRANSP:TRANSPARENT
DTEND;TZID=America/Toronto:20241120T113000
URL:https://uwaterloo.ca/environment/events/chart-your-course-career-develo
 pment-strategies-darby
SUMMARY:Chart Your Course: Career Development Strategies with Darby Mcgrath
CLASS:PUBLIC
DESCRIPTION:Are you ready to chart a successful career path in STEM? You’
 re\ninvited to an inspiring session with Darby Mcgrath\, Vice President of
 \nResearch and Development at Vineland and a prominent educator at Brock\n
 University and the University of Waterloo. Her outstanding\ncontributions 
 to the field have earned her the Greater Niagara Chamber\nof Commerce 2023
  Women in Business Award for Science\, Technology\,\nEngineering &amp; Math an
 d the 2023 Influential Women in Canadian\nAgriculture Award. Join Darby an
 d learn how to: Embrace diverse career\nopportunities\, Curate Your ‘Bra
 g Book\, and set effective goals for\nsuccess. 
DTSTAMP:20260420T032707Z
END:VEVENT
END:VCALENDAR