BEGIN:VCALENDAR
VERSION:2.0
PRODID:-//Drupal iCal API//EN
X-WR-CALNAME:Events items teaser
X-WR-TIMEZONE:America/Toronto
BEGIN:VTIMEZONE
TZID:America/Toronto
X-LIC-LOCATION:America/Toronto
BEGIN:DAYLIGHT
TZNAME:EDT
TZOFFSETFROM:-0500
TZOFFSETTO:-0400
DTSTART:20250309T070000
END:DAYLIGHT
BEGIN:STANDARD
TZNAME:EST
TZOFFSETFROM:-0400
TZOFFSETTO:-0500
DTSTART:20241103T060000
END:STANDARD
END:VTIMEZONE
BEGIN:VEVENT
UID:69e978d7cd506
DTSTART;TZID=America/Toronto:20250326T120000
SEQUENCE:0
TRANSP:TRANSPARENT
DTEND;TZID=America/Toronto:20250326T140000
URL:https://uwaterloo.ca/equity-diversity-inclusion-anti-racism/events/mate
 s-x-edi-r-slime-making-unleash-your-inner-slime-master
LOCATION:SLC - Student Life Centre Lower Flex Space Waterloo ON N2L 3G1 Can
 ada
SUMMARY:Mates x EDI-R Slime Making: Unleash Your Inner Slime Master!
CLASS:PUBLIC
DESCRIPTION:De-stress before finals with a fun and relaxing event designed 
 just\nfor you! Join Mates x EDI-R for slime making\, where you’ll get th
 e\nchance to create your very own slime and let your creativity flow.
DTSTAMP:20260423T014143Z
END:VEVENT
END:VCALENDAR