BEGIN:VCALENDAR
VERSION:2.0
PRODID:-//Drupal iCal API//EN
X-WR-CALNAME:Events items teaser
X-WR-TIMEZONE:America/Toronto
BEGIN:VTIMEZONE
TZID:America/Toronto
X-LIC-LOCATION:America/Toronto
BEGIN:DAYLIGHT
TZNAME:EDT
TZOFFSETFROM:-0500
TZOFFSETTO:-0400
DTSTART:20250309T070000
END:DAYLIGHT
BEGIN:STANDARD
TZNAME:EST
TZOFFSETFROM:-0400
TZOFFSETTO:-0500
DTSTART:20241103T060000
END:STANDARD
END:VTIMEZONE
BEGIN:VEVENT
UID:69e7c83fb7b40
DTSTART;TZID=America/Toronto:20251001T120000
SEQUENCE:0
TRANSP:TRANSPARENT
DTEND;TZID=America/Toronto:20251001T133000
URL:https://uwaterloo.ca/equity-diversity-inclusion-anti-racism/events/brav
 e-space-conversations-care-centered-approach-navigating
SUMMARY:Brave Space Conversations: A Care-Centered Approach to Navigating\n
 Difficult Dialogues Through an EDI-R Lens
CLASS:PUBLIC
DESCRIPTION:WORKSHOP TITLE: BRAVE SPACE CONVERSATIONS\; A CARE-CENTERED AP
 PROACH\nTO NAVIGATING DIFFICULT DIALOGUES THROUGH AN EDI-R LENS\nDate: Jul
 y 23\, 2025 at 12:00-1:30pm\nFormat: Online
DTSTAMP:20260421T185559Z
END:VEVENT
END:VCALENDAR