BEGIN:VCALENDAR
VERSION:2.0
PRODID:-//Drupal iCal API//EN
X-WR-CALNAME:Events items teaser
X-WR-TIMEZONE:America/Toronto
BEGIN:VTIMEZONE
TZID:America/Toronto
X-LIC-LOCATION:America/Toronto
BEGIN:DAYLIGHT
TZNAME:EDT
TZOFFSETFROM:-0500
TZOFFSETTO:-0400
DTSTART:20200308T070000
END:DAYLIGHT
BEGIN:STANDARD
TZNAME:EST
TZOFFSETFROM:-0400
TZOFFSETTO:-0500
DTSTART:20191103T060000
END:STANDARD
END:VTIMEZONE
BEGIN:VEVENT
UID:69e4c4a9d3bc1
DTSTART;TZID=America/Toronto:20200520T130000
SEQUENCE:0
TRANSP:TRANSPARENT
DTEND;TZID=America/Toronto:20200520T160000
URL:https://uwaterloo.ca/equity-diversity-inclusion-anti-racism/events/onli
 ne-eq203-anti-racism-anti-oppression-workshop
LOCATION:Online Workshop Canada
SUMMARY:ONLINE: EQ203: Anti-Racism &amp; Anti-Oppression Workshop
CLASS:PUBLIC
DESCRIPTION:This foundational workshop\n[https://uwaterloo.ca/human-rights-
 equity-inclusion/events/online-eq203-anti-racism-anti-oppression-workshop]
 \nintroduces participants to the power dynamics of racial and colonial\nop
 pression situated within a Canadian and global context. Learners of\nall w
 alks discover the language of social justice\, and explore models\nto crea
 te more equitable communities.\n\nAUDIENCE: Students\, Faculty and Staff
DTSTAMP:20260419T120353Z
END:VEVENT
END:VCALENDAR