BEGIN:VCALENDAR
VERSION:2.0
PRODID:-//Drupal iCal API//EN
X-WR-CALNAME:Events items teaser
X-WR-TIMEZONE:America/Toronto
BEGIN:VTIMEZONE
TZID:America/Toronto
X-LIC-LOCATION:America/Toronto
BEGIN:DAYLIGHT
TZNAME:EDT
TZOFFSETFROM:-0500
TZOFFSETTO:-0400
DTSTART:20250309T070000
END:DAYLIGHT
BEGIN:STANDARD
TZNAME:EST
TZOFFSETFROM:-0400
TZOFFSETTO:-0500
DTSTART:20251102T060000
END:STANDARD
END:VTIMEZONE
BEGIN:VEVENT
UID:69eceb46258ed
DTSTART;TZID=America/Toronto:20251112T130000
SEQUENCE:0
TRANSP:TRANSPARENT
DTEND;TZID=America/Toronto:20251112T143000
URL:https://uwaterloo.ca/equity-diversity-inclusion-anti-racism/events/byst
 ander-intervention-training-staff-and-faculty
LOCATION:HS - Health Services HLTH EXP 1689 (behind the Starbucks) Waterloo
  ON N2L 3G1 Canada
SUMMARY:Bystander Intervention Training for Staff and Faculty
CLASS:PUBLIC
DESCRIPTION:Bystander  Training\, November 12\, 1:00pm-2:30pm
DTSTAMP:20260425T162646Z
END:VEVENT
END:VCALENDAR