BEGIN:VCALENDAR
VERSION:2.0
PRODID:-//Drupal iCal API//EN
X-WR-CALNAME:Events items teaser
X-WR-TIMEZONE:America/Toronto
BEGIN:VTIMEZONE
TZID:America/Toronto
X-LIC-LOCATION:America/Toronto
BEGIN:DAYLIGHT
TZNAME:EDT
TZOFFSETFROM:-0500
TZOFFSETTO:-0400
DTSTART:20250309T070000
END:DAYLIGHT
BEGIN:STANDARD
TZNAME:EST
TZOFFSETFROM:-0400
TZOFFSETTO:-0500
DTSTART:20251102T060000
END:STANDARD
END:VTIMEZONE
BEGIN:VEVENT
UID:69ec3ed861faa
DTSTART;TZID=America/Toronto:20251119T100000
SEQUENCE:0
TRANSP:TRANSPARENT
DTEND;TZID=America/Toronto:20251119T113000
URL:https://uwaterloo.ca/equity-diversity-inclusion-anti-racism/events/mock
 tails-and-insights-student-drop-session
LOCATION:EC5 - East Campus 5 305 Phillip St. Level 2\, Office of EDI-R Wate
 rloo ON N2L 5Z5 Canada
SUMMARY:Mocktails and Insights Student Drop-in session
CLASS:PUBLIC
DESCRIPTION:Join us to learn about available supports for disclosures\, and
  explore\nhow we can assist you throughout the process during this drop-in
 \nsession for students.
DTSTAMP:20260425T041104Z
END:VEVENT
END:VCALENDAR