BEGIN:VCALENDAR
VERSION:2.0
PRODID:-//Drupal iCal API//EN
X-WR-CALNAME:Events items teaser
X-WR-TIMEZONE:America/Toronto
BEGIN:VTIMEZONE
TZID:America/Toronto
X-LIC-LOCATION:America/Toronto
BEGIN:DAYLIGHT
TZNAME:EDT
TZOFFSETFROM:-0500
TZOFFSETTO:-0400
DTSTART:20250309T070000
END:DAYLIGHT
BEGIN:STANDARD
TZNAME:EST
TZOFFSETFROM:-0400
TZOFFSETTO:-0500
DTSTART:20251102T060000
END:STANDARD
END:VTIMEZONE
BEGIN:VEVENT
UID:69e55ae3076f1
DTSTART;TZID=America/Toronto:20251124T113000
SEQUENCE:0
TRANSP:TRANSPARENT
DTEND;TZID=America/Toronto:20251124T143000
URL:https://uwaterloo.ca/equity-diversity-inclusion-anti-racism/events/toge
 ther-community-collaborative-mural-project-1
LOCATION:Waterloo Architecture 7 Melville St South Loft Cambridge ON N2L 3G
 1 Canada
SUMMARY:Together In Community: A Collaborative Mural Project
CLASS:PUBLIC
DESCRIPTION:\"EACH TILE REPRESENTS A HEARTBEAT OF OUR SHARED COMMUNITY.\"\n
 \nJoin us at our next _Together in Community_ mural-painting session!\nS
 tudents\, staff\, and faculty are invited to help co-create a vibrant\ncom
 munity mural that will be installed at the DC Library. Each bold\nbrushstr
 oke contributes to the evolving story of our shared campus\nexperience.\n\
 nThe Office of EDI-R and Waterloo Libraries\, in collaboration with\nWater
 loo Architecture\, are hosting a painting session at the CAMBRIDGE\nCAMPUS
  on MONDAY\, NOVEMBER 24\, 2025 FROM 11:30 AM TO 2:30 PM. Come\ncontribu
 te to a living symbol of unity and belonging. No experience\nrequired—ju
 st bring your imagination and community spirit.\n\nSee you there!
DTSTAMP:20260419T224451Z
END:VEVENT
END:VCALENDAR