BEGIN:VCALENDAR
VERSION:2.0
PRODID:-//Drupal iCal API//EN
X-WR-CALNAME:Events items teaser
X-WR-TIMEZONE:America/Toronto
BEGIN:VTIMEZONE
TZID:America/Toronto
X-LIC-LOCATION:America/Toronto
BEGIN:DAYLIGHT
TZNAME:EDT
TZOFFSETFROM:-0500
TZOFFSETTO:-0400
DTSTART:20250309T070000
END:DAYLIGHT
BEGIN:STANDARD
TZNAME:EST
TZOFFSETFROM:-0400
TZOFFSETTO:-0500
DTSTART:20251102T060000
END:STANDARD
END:VTIMEZONE
BEGIN:VEVENT
UID:69e5121a32561
DTSTART;TZID=America/Toronto:20260305T130000
SEQUENCE:0
TRANSP:TRANSPARENT
DTEND;TZID=America/Toronto:20260305T160000
URL:https://uwaterloo.ca/equity-diversity-inclusion-anti-racism/events/blac
 k-intellectual-life-post-edi-university
LOCATION:Paul Martine Centre Waterloo ON Canada
SUMMARY:Black Intellectual Life in the Post-EDI University
CLASS:PUBLIC
DESCRIPTION:Wilfrid Laurier's Office of the Associate Vice-President: Equit
 y\,\nDiversity and Inclusion is pleased to invite you to \"Black\nIntellec
 tual Life in the Post-EDI University\,\" our second instalment\nof the L
 amine Diallo EDI Speaker Series\n[https://www.wlu.ca/about/discover-laur
 ier/equity-diversity-and-inclusion/lamine-diallo-edi-speaker-series.html]
  for\n2025-2026\, featuring a panel organized in collaboration with the\n
 University of Waterloo's Pan African Initiative for Research and\nits Off
 ice of Equity\, Diversity\, Inclusion and Anti-Racism\, and the\nBlack Res
 earchers of Southwestern Ontario (BRSO).
DTSTAMP:20260419T173418Z
END:VEVENT
END:VCALENDAR