BEGIN:VCALENDAR
VERSION:2.0
PRODID:-//Drupal iCal API//EN
X-WR-CALNAME:Events items teaser
X-WR-TIMEZONE:America/Toronto
BEGIN:VTIMEZONE
TZID:America/Toronto
X-LIC-LOCATION:America/Toronto
BEGIN:DAYLIGHT
TZNAME:EDT
TZOFFSETFROM:-0500
TZOFFSETTO:-0400
DTSTART:20200308T070000
END:DAYLIGHT
BEGIN:STANDARD
TZNAME:EST
TZOFFSETFROM:-0400
TZOFFSETTO:-0500
DTSTART:20191103T060000
END:STANDARD
END:VTIMEZONE
BEGIN:VEVENT
UID:69eb7b266f384
DTSTART;TZID=America/Toronto:20201015T130000
SEQUENCE:0
TRANSP:TRANSPARENT
DTEND;TZID=America/Toronto:20201015T150000
URL:https://uwaterloo.ca/equity-diversity-inclusion-anti-racism/events/eq20
 4-october
SUMMARY:ONLINE: EQ204 Anti-Blackness at the Intersections Workshop
CLASS:PUBLIC
DESCRIPTION:Situated within the values and frameworks of anti-racism\,\nTHI
 S SESSION [/human-rights-equity-inclusion/node/482] explores the\nhistori
 cal foundation of anti-Black racism within Canada and its\npresent day imp
 lications on Black communities.\n\nAUDIENCE: Students\, Faculty and Staff
DTSTAMP:20260424T141606Z
END:VEVENT
END:VCALENDAR