BEGIN:VCALENDAR
VERSION:2.0
PRODID:-//Drupal iCal API//EN
X-WR-CALNAME:Events items teaser
X-WR-TIMEZONE:America/Toronto
BEGIN:VTIMEZONE
TZID:America/Toronto
X-LIC-LOCATION:America/Toronto
BEGIN:DAYLIGHT
TZNAME:EDT
TZOFFSETFROM:-0500
TZOFFSETTO:-0400
DTSTART:20200308T070000
END:DAYLIGHT
BEGIN:STANDARD
TZNAME:EST
TZOFFSETFROM:-0400
TZOFFSETTO:-0500
DTSTART:20191103T060000
END:STANDARD
END:VTIMEZONE
BEGIN:VEVENT
UID:69ec31486a400
DTSTART;TZID=America/Toronto:20201016T100000
SEQUENCE:0
TRANSP:TRANSPARENT
DTEND;TZID=America/Toronto:20201016T120000
URL:https://uwaterloo.ca/equity-diversity-inclusion-anti-racism/events/cmhr
 105-october
SUMMARY:ONLINE: CMHR105 Giving Bad News Workshop
CLASS:PUBLIC
DESCRIPTION:THIS WORKSHOP [/human-rights-equity-inclusion/node/484]enables\
 nparticipants to prepare in advance\, know what resources are available\,\
 nand build confidence to effectively deal with potentially hostile\,\nangr
 y\, or frustrated stakeholders\, both internal and external to the\nworkpl
 ace.\n\nAUDIENCE: Students\, Faculty and Staff
DTSTAMP:20260425T031312Z
END:VEVENT
END:VCALENDAR