BEGIN:VCALENDAR
VERSION:2.0
PRODID:-//Drupal iCal API//EN
X-WR-CALNAME:Events items teaser
X-WR-TIMEZONE:America/Toronto
BEGIN:VTIMEZONE
TZID:America/Toronto
X-LIC-LOCATION:America/Toronto
BEGIN:DAYLIGHT
TZNAME:EDT
TZOFFSETFROM:-0500
TZOFFSETTO:-0400
DTSTART:20200308T070000
END:DAYLIGHT
BEGIN:STANDARD
TZNAME:EST
TZOFFSETFROM:-0400
TZOFFSETTO:-0500
DTSTART:20191103T060000
END:STANDARD
END:VTIMEZONE
BEGIN:VEVENT
UID:69eb51111a555
DTSTART;TZID=America/Toronto:20201015T190000
SEQUENCE:0
TRANSP:TRANSPARENT
DTEND;TZID=America/Toronto:20201015T210000
URL:https://uwaterloo.ca/equity-diversity-inclusion-anti-racism/events/supp
 orters-survivors-workshop
SUMMARY:Supporters of Survivors Workshop
CLASS:PUBLIC
DESCRIPTION:THIS WORKSHOP [/human-rights-equity-inclusion/node/502] is host
 ed and\nfacilitated by the_Sexual Assault Support Centre (SASC) of Waterlo
 o\nRegion_. Join SASC in a safer space to connect with other supporters\n
 and explore strategies to support the survivor(s) in your life. \n\nAUDIE
 NCE: Any community member who is supporting a survivor of sexual\nviolence
DTSTAMP:20260424T111633Z
END:VEVENT
END:VCALENDAR