BEGIN:VCALENDAR
VERSION:2.0
PRODID:-//Drupal iCal API//EN
X-WR-CALNAME:Events items teaser
X-WR-TIMEZONE:America/Toronto
BEGIN:VTIMEZONE
TZID:America/Toronto
X-LIC-LOCATION:America/Toronto
BEGIN:DAYLIGHT
TZNAME:EDT
TZOFFSETFROM:-0500
TZOFFSETTO:-0400
DTSTART:20210314T070000
END:DAYLIGHT
BEGIN:STANDARD
TZNAME:EST
TZOFFSETFROM:-0400
TZOFFSETTO:-0500
DTSTART:20201101T060000
END:STANDARD
END:VTIMEZONE
BEGIN:VEVENT
UID:69e971bd54c0f
DTSTART;TZID=America/Toronto:20210621T120000
SEQUENCE:0
TRANSP:TRANSPARENT
DTEND;TZID=America/Toronto:20210621T130000
URL:https://uwaterloo.ca/equity-diversity-inclusion-anti-racism/events/lunc
 htime-performance-deantha-edmunds-canadas-first-and-only
SUMMARY:Lunchtime Performance: Deantha Edmunds\, Canada's First and Only In
 uk\nProfessional Classical Singer
CLASS:PUBLIC
DESCRIPTION:Canada’s first and only Inuk professional classical\nsinger\,
  Deantha Edmunds\, is a proud resident of Newfoundland and\nLabrador. Sh
 e is a two-time Dora Award Nominated performer and is much\nin demand as a
  singer\, actor\, and collaborator in both Indigenous and\nnon-Indigenous 
 projects. She is also a member of the Canadian Opera\nCompany’s _Circle
  of Artists. _ 
DTSTAMP:20260423T011125Z
END:VEVENT
END:VCALENDAR