BEGIN:VCALENDAR
VERSION:2.0
PRODID:-//Drupal iCal API//EN
X-WR-CALNAME:Events items teaser
X-WR-TIMEZONE:America/Toronto
BEGIN:VTIMEZONE
TZID:America/Toronto
X-LIC-LOCATION:America/Toronto
BEGIN:DAYLIGHT
TZNAME:EDT
TZOFFSETFROM:-0500
TZOFFSETTO:-0400
DTSTART:20210314T070000
END:DAYLIGHT
BEGIN:STANDARD
TZNAME:EST
TZOFFSETFROM:-0400
TZOFFSETTO:-0500
DTSTART:20201101T060000
END:STANDARD
END:VTIMEZONE
BEGIN:VEVENT
UID:69e376288df55
DTSTART;TZID=America/Toronto:20210614T000000
SEQUENCE:0
TRANSP:TRANSPARENT
DTEND;TZID=America/Toronto:20210630T000000
URL:https://uwaterloo.ca/equity-diversity-inclusion-anti-racism/events/kws-
 iskwe
SUMMARY:iskwē with the Kitchener Waterloo Symphony
CLASS:PUBLIC
DESCRIPTION:As part of the National Indigenous History Month events across 
 campus\,\nIndigenous Initiatives Office is offering campus community membe
 rs a\nchance to stream artist\, musician\, and creator iskwē in her\npe
 rformance with the Kitchener Waterloo Symphony (KWS)
DTSTAMP:20260418T121640Z
END:VEVENT
END:VCALENDAR