BEGIN:VCALENDAR
VERSION:2.0
PRODID:-//Drupal iCal API//EN
X-WR-CALNAME:Events items teaser
X-WR-TIMEZONE:America/Toronto
BEGIN:VTIMEZONE
TZID:America/Toronto
X-LIC-LOCATION:America/Toronto
BEGIN:DAYLIGHT
TZNAME:EDT
TZOFFSETFROM:-0500
TZOFFSETTO:-0400
DTSTART:20220313T070000
END:DAYLIGHT
BEGIN:STANDARD
TZNAME:EST
TZOFFSETFROM:-0400
TZOFFSETTO:-0500
DTSTART:20211107T060000
END:STANDARD
END:VTIMEZONE
BEGIN:VEVENT
UID:69e7f63af0767
DTSTART;TZID=America/Toronto:20221102T100000
SEQUENCE:0
TRANSP:TRANSPARENT
DTEND;TZID=America/Toronto:20221102T120000
URL:https://uwaterloo.ca/equity-diversity-inclusion-anti-racism/events/2slg
 btq-fundamentals-0
SUMMARY:2SLGBTQ+ Fundamentals
CLASS:PUBLIC
DESCRIPTION:This is an introductory workshop to help students\, faculty and
  staff\ndevelop greater understandings of 2SLGBTQ+ identities\; gain knowl
 edge\nabout protected rights\; and\,  identify and explore barriers to\nd
 evelop and foster actions that create a more welcoming campus\nenvironment
  and offer meaningful and relevant support.\n\nAUDIENCE: Students\, Facult
 y and Staff\nLEVEL: Introductory
DTSTAMP:20260421T221210Z
END:VEVENT
END:VCALENDAR