BEGIN:VCALENDAR
VERSION:2.0
PRODID:-//Drupal iCal API//EN
X-WR-CALNAME:Events items teaser
X-WR-TIMEZONE:America/Toronto
BEGIN:VTIMEZONE
TZID:America/Toronto
X-LIC-LOCATION:America/Toronto
BEGIN:DAYLIGHT
TZNAME:EDT
TZOFFSETFROM:-0500
TZOFFSETTO:-0400
DTSTART:20230312T070000
END:DAYLIGHT
BEGIN:STANDARD
TZNAME:EST
TZOFFSETFROM:-0400
TZOFFSETTO:-0500
DTSTART:20231105T060000
END:STANDARD
END:VTIMEZONE
BEGIN:VEVENT
UID:69e4fe999ef3f
DTSTART;TZID=America/Toronto:20240229T140000
SEQUENCE:0
TRANSP:TRANSPARENT
DTEND;TZID=America/Toronto:20240229T160000
URL:https://uwaterloo.ca/equity-diversity-inclusion-anti-racism/events/unde
 rstanding-allyship-solidarity-and-advocacy
SUMMARY:Understanding Allyship\, Solidarity and Advocacy
CLASS:PUBLIC
DESCRIPTION:A brand new 201 level workshop that aims to equip staff\, facu
 lty\, and\ngraduate students with knowledge and tools to become intentiona
 l\nallies\, community members standing in solidarity\, and empathetic\nadv
 ocates for change.
DTSTAMP:20260419T161105Z
END:VEVENT
END:VCALENDAR